BEGIN:VCALENDAR
VERSION:2.0
PRODID:-//Højhuset - ECPv6.15.17.1//NONSGML v1.0//EN
CALSCALE:GREGORIAN
METHOD:PUBLISH
X-WR-CALNAME:Højhuset
X-ORIGINAL-URL:https://hojhuset.com
X-WR-CALDESC:Begivenheder for Højhuset
REFRESH-INTERVAL;VALUE=DURATION:PT1H
X-Robots-Tag:noindex
X-PUBLISHED-TTL:PT1H
BEGIN:VTIMEZONE
TZID:Europe/Copenhagen
BEGIN:DAYLIGHT
TZOFFSETFROM:+0100
TZOFFSETTO:+0200
TZNAME:CEST
DTSTART:20250330T010000
END:DAYLIGHT
BEGIN:STANDARD
TZOFFSETFROM:+0200
TZOFFSETTO:+0100
TZNAME:CET
DTSTART:20251026T010000
END:STANDARD
BEGIN:DAYLIGHT
TZOFFSETFROM:+0100
TZOFFSETTO:+0200
TZNAME:CEST
DTSTART:20260329T010000
END:DAYLIGHT
BEGIN:STANDARD
TZOFFSETFROM:+0200
TZOFFSETTO:+0100
TZNAME:CET
DTSTART:20261025T010000
END:STANDARD
BEGIN:DAYLIGHT
TZOFFSETFROM:+0100
TZOFFSETTO:+0200
TZNAME:CEST
DTSTART:20270328T010000
END:DAYLIGHT
BEGIN:STANDARD
TZOFFSETFROM:+0200
TZOFFSETTO:+0100
TZNAME:CET
DTSTART:20271031T010000
END:STANDARD
BEGIN:DAYLIGHT
TZOFFSETFROM:+0100
TZOFFSETTO:+0200
TZNAME:CEST
DTSTART:20280326T010000
END:DAYLIGHT
BEGIN:STANDARD
TZOFFSETFROM:+0200
TZOFFSETTO:+0100
TZNAME:CET
DTSTART:20281029T010000
END:STANDARD
END:VTIMEZONE
BEGIN:VEVENT
DTSTART;TZID=Europe/Copenhagen:20261202T180000
DTEND;TZID=Europe/Copenhagen:20261202T190000
DTSTAMP:20260424T085512
CREATED:20260330T121015Z
LAST-MODIFIED:20260330T121015Z
UID:8185-1796234400-1796238000@hojhuset.com
SUMMARY:Fællesspisning hver mandag og onsdag
DESCRIPTION:Vil du være med til fællesspisning? \nMiddagen starter kl. 18.00. Vi sidder sammen ved langborde\, og dagens lækre økologiske måltid deles fra store fade ved hvert bord. \nDu skal måske bede din nabo om at give dig brødet og til gengæld række salaten. Som var du derhjemme. \nBEMÆRK: Vi anbefaler\, at du ankommer lidt tidligere\, så du kan nå at købe drikkevarer i baren\, inden middagen starter. \nDørene åbner allerede kl. 17\, så har man lyst til et glas i Pejsestuen\, et slag bordtennis eller en gåtur i vores spændende hus inden middagen\, er man mere end velkommen. \nDet koster 140 kr. pr. voksen\, 40 kr. pr. barn (0-2 år) og 70 kr. pr. barn (3 – 11 år) \nHvis du har lyst til at slutte af på en sød note\, er der mulighed for at købe kaffe og kage efter spisning. \nDet med småt \nAllergier skal oplyses til reception@hojhuset.com minimum 2 dage før. \nDer er fællesspisning hver mandag og onsdag i 2026. \nBilletter refunderes ikke\, med mindre arrangementet aflyses.\nVi gennemfører ved min. 15 tilmeldte. \nBemærk! Ved køb fungerer din ordrebekræftelse som billet. Du modtager ingen særskilt billet.
URL:https://hojhuset.com/events/faellesspisning-hver-mandag-og-onsdag-201/
CATEGORIES:events
ATTACH;FMTTYPE=image/jpeg:https://hojhuset.com/wp-content/uploads/2026/01/Spisesalen-cover-photo.jpg
END:VEVENT
BEGIN:VEVENT
DTSTART;TZID=Europe/Copenhagen:20261207T180000
DTEND;TZID=Europe/Copenhagen:20261207T190000
DTSTAMP:20260424T085512
CREATED:20260330T121211Z
LAST-MODIFIED:20260330T121211Z
UID:8186-1796666400-1796670000@hojhuset.com
SUMMARY:Fællesspisning hver mandag og onsdag
DESCRIPTION:Vil du være med til fællesspisning? \nMiddagen starter kl. 18.00. Vi sidder sammen ved langborde\, og dagens lækre økologiske måltid deles fra store fade ved hvert bord. \nDu skal måske bede din nabo om at give dig brødet og til gengæld række salaten. Som var du derhjemme. \nBEMÆRK: Vi anbefaler\, at du ankommer lidt tidligere\, så du kan nå at købe drikkevarer i baren\, inden middagen starter. \nDørene åbner allerede kl. 17\, så har man lyst til et glas i Pejsestuen\, et slag bordtennis eller en gåtur i vores spændende hus inden middagen\, er man mere end velkommen. \nDet koster 140 kr. pr. voksen\, 40 kr. pr. barn (0-2 år) og 70 kr. pr. barn (3 – 11 år) \nHvis du har lyst til at slutte af på en sød note\, er der mulighed for at købe kaffe og kage efter spisning. \nDet med småt \nAllergier skal oplyses til reception@hojhuset.com minimum 2 dage før. \nDer er fællesspisning hver mandag og onsdag i 2026. \nBilletter refunderes ikke\, med mindre arrangementet aflyses.\nVi gennemfører ved min. 15 tilmeldte. \nBemærk! Ved køb fungerer din ordrebekræftelse som billet. Du modtager ingen særskilt billet.
URL:https://hojhuset.com/events/faellesspisning-hver-mandag-og-onsdag-202/
CATEGORIES:events
ATTACH;FMTTYPE=image/jpeg:https://hojhuset.com/wp-content/uploads/2026/01/Spisesalen-cover-photo.jpg
END:VEVENT
BEGIN:VEVENT
DTSTART;TZID=Europe/Copenhagen:20261209T180000
DTEND;TZID=Europe/Copenhagen:20261209T190000
DTSTAMP:20260424T085512
CREATED:20260330T121353Z
LAST-MODIFIED:20260330T121353Z
UID:8187-1796839200-1796842800@hojhuset.com
SUMMARY:Fællesspisning hver mandag og onsdag
DESCRIPTION:Vil du være med til fællesspisning? \nMiddagen starter kl. 18.00. Vi sidder sammen ved langborde\, og dagens lækre økologiske måltid deles fra store fade ved hvert bord. \nDu skal måske bede din nabo om at give dig brødet og til gengæld række salaten. Som var du derhjemme. \nBEMÆRK: Vi anbefaler\, at du ankommer lidt tidligere\, så du kan nå at købe drikkevarer i baren\, inden middagen starter. \nDørene åbner allerede kl. 17\, så har man lyst til et glas i Pejsestuen\, et slag bordtennis eller en gåtur i vores spændende hus inden middagen\, er man mere end velkommen. \nDet koster 140 kr. pr. voksen\, 40 kr. pr. barn (0-2 år) og 70 kr. pr. barn (3 – 11 år) \nHvis du har lyst til at slutte af på en sød note\, er der mulighed for at købe kaffe og kage efter spisning. \nDet med småt \nAllergier skal oplyses til reception@hojhuset.com minimum 2 dage før. \nDer er fællesspisning hver mandag og onsdag i 2026. \nBilletter refunderes ikke\, med mindre arrangementet aflyses.\nVi gennemfører ved min. 15 tilmeldte. \nBemærk! Ved køb fungerer din ordrebekræftelse som billet. Du modtager ingen særskilt billet.
URL:https://hojhuset.com/events/faellesspisning-hver-mandag-og-onsdag-203/
CATEGORIES:events
ATTACH;FMTTYPE=image/jpeg:https://hojhuset.com/wp-content/uploads/2026/01/Spisesalen-cover-photo.jpg
END:VEVENT
BEGIN:VEVENT
DTSTART;TZID=Europe/Copenhagen:20261214T180000
DTEND;TZID=Europe/Copenhagen:20261214T190000
DTSTAMP:20260424T085512
CREATED:20260330T121537Z
LAST-MODIFIED:20260330T121537Z
UID:8188-1797271200-1797274800@hojhuset.com
SUMMARY:Fællesspisning hver mandag og onsdag
DESCRIPTION:Vil du være med til fællesspisning? \nMiddagen starter kl. 18.00. Vi sidder sammen ved langborde\, og dagens lækre økologiske måltid deles fra store fade ved hvert bord. \nDu skal måske bede din nabo om at give dig brødet og til gengæld række salaten. Som var du derhjemme. \nBEMÆRK: Vi anbefaler\, at du ankommer lidt tidligere\, så du kan nå at købe drikkevarer i baren\, inden middagen starter. \nDørene åbner allerede kl. 17\, så har man lyst til et glas i Pejsestuen\, et slag bordtennis eller en gåtur i vores spændende hus inden middagen\, er man mere end velkommen. \nDet koster 140 kr. pr. voksen\, 40 kr. pr. barn (0-2 år) og 70 kr. pr. barn (3 – 11 år) \nHvis du har lyst til at slutte af på en sød note\, er der mulighed for at købe kaffe og kage efter spisning. \nDet med småt \nAllergier skal oplyses til reception@hojhuset.com minimum 2 dage før. \nDer er fællesspisning hver mandag og onsdag i 2026. \nBilletter refunderes ikke\, med mindre arrangementet aflyses.\nVi gennemfører ved min. 15 tilmeldte. \nBemærk! Ved køb fungerer din ordrebekræftelse som billet. Du modtager ingen særskilt billet.
URL:https://hojhuset.com/events/faellesspisning-hver-mandag-og-onsdag-204/
CATEGORIES:events
ATTACH;FMTTYPE=image/jpeg:https://hojhuset.com/wp-content/uploads/2026/01/Spisesalen-cover-photo.jpg
END:VEVENT
BEGIN:VEVENT
DTSTART;TZID=Europe/Copenhagen:20261216T180000
DTEND;TZID=Europe/Copenhagen:20261216T190000
DTSTAMP:20260424T085512
CREATED:20260330T121720Z
LAST-MODIFIED:20260330T121720Z
UID:8189-1797444000-1797447600@hojhuset.com
SUMMARY:Fællesspisning hver mandag og onsdag
DESCRIPTION:Vil du være med til fællesspisning? \nMiddagen starter kl. 18.00. Vi sidder sammen ved langborde\, og dagens lækre økologiske måltid deles fra store fade ved hvert bord. \nDu skal måske bede din nabo om at give dig brødet og til gengæld række salaten. Som var du derhjemme. \nBEMÆRK: Vi anbefaler\, at du ankommer lidt tidligere\, så du kan nå at købe drikkevarer i baren\, inden middagen starter. \nDørene åbner allerede kl. 17\, så har man lyst til et glas i Pejsestuen\, et slag bordtennis eller en gåtur i vores spændende hus inden middagen\, er man mere end velkommen. \nDet koster 140 kr. pr. voksen\, 40 kr. pr. barn (0-2 år) og 70 kr. pr. barn (3 – 11 år) \nHvis du har lyst til at slutte af på en sød note\, er der mulighed for at købe kaffe og kage efter spisning. \nDet med småt \nAllergier skal oplyses til reception@hojhuset.com minimum 2 dage før. \nDer er fællesspisning hver mandag og onsdag i 2026. \nBilletter refunderes ikke\, med mindre arrangementet aflyses.\nVi gennemfører ved min. 15 tilmeldte. \nBemærk! Ved køb fungerer din ordrebekræftelse som billet. Du modtager ingen særskilt billet.
URL:https://hojhuset.com/events/faellesspisning-hver-mandag-og-onsdag-205/
CATEGORIES:events
ATTACH;FMTTYPE=image/jpeg:https://hojhuset.com/wp-content/uploads/2026/01/Spisesalen-cover-photo.jpg
END:VEVENT
BEGIN:VEVENT
DTSTART;TZID=Europe/Copenhagen:20261221T180000
DTEND;TZID=Europe/Copenhagen:20261221T190000
DTSTAMP:20260424T085512
CREATED:20260330T121924Z
LAST-MODIFIED:20260330T121924Z
UID:8190-1797876000-1797879600@hojhuset.com
SUMMARY:Fællesspisning hver mandag og onsdag
DESCRIPTION:Vil du være med til fællesspisning? \nMiddagen starter kl. 18.00. Vi sidder sammen ved langborde\, og dagens lækre økologiske måltid deles fra store fade ved hvert bord. \nDu skal måske bede din nabo om at give dig brødet og til gengæld række salaten. Som var du derhjemme. \nBEMÆRK: Vi anbefaler\, at du ankommer lidt tidligere\, så du kan nå at købe drikkevarer i baren\, inden middagen starter. \nDørene åbner allerede kl. 17\, så har man lyst til et glas i Pejsestuen\, et slag bordtennis eller en gåtur i vores spændende hus inden middagen\, er man mere end velkommen. \nDet koster 140 kr. pr. voksen\, 40 kr. pr. barn (0-2 år) og 70 kr. pr. barn (3 – 11 år) \nHvis du har lyst til at slutte af på en sød note\, er der mulighed for at købe kaffe og kage efter spisning. \nDet med småt \nAllergier skal oplyses til reception@hojhuset.com minimum 2 dage før. \nDer er fællesspisning hver mandag og onsdag i 2026. \nBilletter refunderes ikke\, med mindre arrangementet aflyses.\nVi gennemfører ved min. 15 tilmeldte. \nBemærk! Ved køb fungerer din ordrebekræftelse som billet. Du modtager ingen særskilt billet.
URL:https://hojhuset.com/events/faellesspisning-hver-mandag-og-onsdag-206/
CATEGORIES:events
ATTACH;FMTTYPE=image/jpeg:https://hojhuset.com/wp-content/uploads/2026/01/Spisesalen-cover-photo.jpg
END:VEVENT
BEGIN:VEVENT
DTSTART;TZID=Europe/Copenhagen:20261223T180000
DTEND;TZID=Europe/Copenhagen:20261223T190000
DTSTAMP:20260424T085512
CREATED:20260330T122155Z
LAST-MODIFIED:20260330T122155Z
UID:8191-1798048800-1798052400@hojhuset.com
SUMMARY:Fællesspisning hver mandag og onsdag
DESCRIPTION:Vil du være med til fællesspisning? \nMiddagen starter kl. 18.00. Vi sidder sammen ved langborde\, og dagens lækre økologiske måltid deles fra store fade ved hvert bord. \nDu skal måske bede din nabo om at give dig brødet og til gengæld række salaten. Som var du derhjemme. \nBEMÆRK: Vi anbefaler\, at du ankommer lidt tidligere\, så du kan nå at købe drikkevarer i baren\, inden middagen starter. \nDørene åbner allerede kl. 17\, så har man lyst til et glas i Pejsestuen\, et slag bordtennis eller en gåtur i vores spændende hus inden middagen\, er man mere end velkommen. \nDet koster 140 kr. pr. voksen\, 40 kr. pr. barn (0-2 år) og 70 kr. pr. barn (3 – 11 år) \nHvis du har lyst til at slutte af på en sød note\, er der mulighed for at købe kaffe og kage efter spisning. \nDet med småt \nAllergier skal oplyses til reception@hojhuset.com minimum 2 dage før. \nDer er fællesspisning hver mandag og onsdag i 2026. \nBilletter refunderes ikke\, med mindre arrangementet aflyses.\nVi gennemfører ved min. 15 tilmeldte. \nBemærk! Ved køb fungerer din ordrebekræftelse som billet. Du modtager ingen særskilt billet.
URL:https://hojhuset.com/events/faellesspisning-hver-mandag-og-onsdag-207/
CATEGORIES:events
ATTACH;FMTTYPE=image/jpeg:https://hojhuset.com/wp-content/uploads/2026/01/Spisesalen-cover-photo.jpg
END:VEVENT
BEGIN:VEVENT
DTSTART;TZID=Europe/Copenhagen:20261228T180000
DTEND;TZID=Europe/Copenhagen:20261228T190000
DTSTAMP:20260424T085512
CREATED:20260330T122406Z
LAST-MODIFIED:20260330T122406Z
UID:8192-1798480800-1798484400@hojhuset.com
SUMMARY:Fællesspisning hver mandag og onsdag
DESCRIPTION:Vil du være med til fællesspisning? \nMiddagen starter kl. 18.00. Vi sidder sammen ved langborde\, og dagens lækre økologiske måltid deles fra store fade ved hvert bord. \nDu skal måske bede din nabo om at give dig brødet og til gengæld række salaten. Som var du derhjemme. \nBEMÆRK: Vi anbefaler\, at du ankommer lidt tidligere\, så du kan nå at købe drikkevarer i baren\, inden middagen starter. \nDørene åbner allerede kl. 17\, så har man lyst til et glas i Pejsestuen\, et slag bordtennis eller en gåtur i vores spændende hus inden middagen\, er man mere end velkommen. \nDet koster 140 kr. pr. voksen\, 40 kr. pr. barn (0-2 år) og 70 kr. pr. barn (3 – 11 år) \nHvis du har lyst til at slutte af på en sød note\, er der mulighed for at købe kaffe og kage efter spisning. \nDet med småt \nAllergier skal oplyses til reception@hojhuset.com minimum 2 dage før. \nDer er fællesspisning hver mandag og onsdag i 2026. \nBilletter refunderes ikke\, med mindre arrangementet aflyses.\nVi gennemfører ved min. 15 tilmeldte. \nBemærk! Ved køb fungerer din ordrebekræftelse som billet. Du modtager ingen særskilt billet.
URL:https://hojhuset.com/events/faellesspisning-hver-mandag-og-onsdag-208/
CATEGORIES:events
ATTACH;FMTTYPE=image/jpeg:https://hojhuset.com/wp-content/uploads/2026/01/Spisesalen-cover-photo.jpg
END:VEVENT
BEGIN:VEVENT
DTSTART;TZID=Europe/Copenhagen:20261230T180000
DTEND;TZID=Europe/Copenhagen:20261230T190000
DTSTAMP:20260424T085512
CREATED:20260330T122534Z
LAST-MODIFIED:20260330T122534Z
UID:8193-1798653600-1798657200@hojhuset.com
SUMMARY:Fællesspisning hver mandag og onsdag
DESCRIPTION:Vil du være med til fællesspisning? \nMiddagen starter kl. 18.00. Vi sidder sammen ved langborde\, og dagens lækre økologiske måltid deles fra store fade ved hvert bord. \nDu skal måske bede din nabo om at give dig brødet og til gengæld række salaten. Som var du derhjemme. \nBEMÆRK: Vi anbefaler\, at du ankommer lidt tidligere\, så du kan nå at købe drikkevarer i baren\, inden middagen starter. \nDørene åbner allerede kl. 17\, så har man lyst til et glas i Pejsestuen\, et slag bordtennis eller en gåtur i vores spændende hus inden middagen\, er man mere end velkommen. \nDet koster 140 kr. pr. voksen\, 40 kr. pr. barn (0-2 år) og 70 kr. pr. barn (3 – 11 år) \nHvis du har lyst til at slutte af på en sød note\, er der mulighed for at købe kaffe og kage efter spisning. \nDet med småt \nAllergier skal oplyses til reception@hojhuset.com minimum 2 dage før. \nDer er fællesspisning hver mandag og onsdag i 2026. \nBilletter refunderes ikke\, med mindre arrangementet aflyses.\nVi gennemfører ved min. 15 tilmeldte. \nBemærk! Ved køb fungerer din ordrebekræftelse som billet. Du modtager ingen særskilt billet.
URL:https://hojhuset.com/events/faellesspisning-hver-mandag-og-onsdag-209/
CATEGORIES:events
ATTACH;FMTTYPE=image/jpeg:https://hojhuset.com/wp-content/uploads/2026/01/Spisesalen-cover-photo.jpg
END:VEVENT
BEGIN:VEVENT
DTSTART;TZID=Europe/Copenhagen:20270122T180000
DTEND;TZID=Europe/Copenhagen:20270122T210000
DTSTAMP:20260424T085512
CREATED:20260420T122422Z
LAST-MODIFIED:20260420T122627Z
UID:8237-1800640800-1800651600@hojhuset.com
SUMMARY:SingAlong-koncert med alle de bedste Grandprix-sange
DESCRIPTION:Sing-Along-koncert med Ole Jørgensen \nDer er glitter og glimt i både øjnene og i Ole Jørgensens skjorte\, når han skruer op for mikrofonen til en forrygende Melodi Grand Prix-aften. Som opvarmning til det rigtige Melodi Grand Prix\, vil Ole med sine musiker og sangere føre publikum gennem alle de kendte  MGP-sange\, og der vil være rig mulighed for at synge med på alle yndlingssangene.\nVi tager alle de gode danske MGP sange som vi kender og husker så godt og krydre det med et par af de store udenlandske hits.. \nDet bliver en aften med glimmer\, stramme bukser og rejehop! \nDer vil være mulighed for at udvide sin aften med Grand Prix-spisning inden singalong-koncerten \nProgram \n18.00 Grand Prix-spisning i Spisesalen; en veltillavet sharefood-ret lavet på sæsonens bedste råvarer. Drikkevarer tilkøbes i baren. \n19.30-21.00 Koncert \nBillettyper \nKoncertbillet: 185 kr (Køb her) \nKoncert + spisning: 435 kr (Køb her) \nDet med småt \nBilletter refunderes ikke\, med mindre arrangementet aflyses.\nVi gennemfører ved min. 15 tilmeldte. \nBemærk! Ved køb fungerer din ordrebekræftelse som billet. Du modtager ingen særskilt billet. \nAllergier skal oplyses til reception@hojhuset.com minimum 2 dage før.
URL:https://hojhuset.com/events/singalong-koncert-med-alle-de-bedste-grandprix-sange-3/
CATEGORIES:events
ATTACH;FMTTYPE=image/png:https://hojhuset.com/wp-content/uploads/2025/11/ole-joergensen-mgp.png
END:VEVENT
BEGIN:VEVENT
DTSTART;TZID=Europe/Copenhagen:20270122T193000
DTEND;TZID=Europe/Copenhagen:20270122T210000
DTSTAMP:20260424T085512
CREATED:20260420T122129Z
LAST-MODIFIED:20260420T122658Z
UID:8236-1800646200-1800651600@hojhuset.com
SUMMARY:SingAlong-koncert med alle de bedste Grandprix-sange
DESCRIPTION:Sing-Along-koncert med Ole Jørgensen \nDer er glitter og glimt i både øjnene og i Ole Jørgensens skjorte\, når han skruer op for mikrofonen til en forrygende Melodi Grand Prix-aften. Som opvarmning til det rigtige Melodi Grand Prix\, vil Ole med sine musiker og sangere føre publikum gennem alle de kendte  MGP-sange\, og der vil være rig mulighed for at synge med på alle yndlingssangene.\nVi tager alle de gode danske MGP sange som vi kender og husker så godt og krydre det med et par af de store udenlandske hits.. \nDet bliver en aften med glimmer\, stramme bukser og rejehop! \nDer vil være mulighed for at udvide sin aften med Grand Prix-spisning inden singalong-koncerten \nProgram \n18.00 Grand Prix-spisning i Spisesalen; en veltillavet sharefood-ret lavet på sæsonens bedste råvarer. Drikkevarer tilkøbes i baren. \n19.30-21.00 Koncert \nBillettyper \nKoncertbillet: 185 kr (Køb her) \nKoncert + spisning: 435 kr (Køb her) \nDet med småt \nBilletter refunderes ikke\, med mindre arrangementet aflyses.\nVi gennemfører ved min. 15 tilmeldte. \nBemærk! Ved køb fungerer din ordrebekræftelse som billet. Du modtager ingen særskilt billet.
URL:https://hojhuset.com/events/singalong-koncert-med-alle-de-bedste-grandprix-sange-2/
CATEGORIES:events
ATTACH;FMTTYPE=image/png:https://hojhuset.com/wp-content/uploads/2025/11/ole-joergensen-mgp.png
END:VEVENT
BEGIN:VEVENT
DTSTART;TZID=Europe/Copenhagen:20270125T140000
DTEND;TZID=Europe/Copenhagen:20270125T190000
DTSTAMP:20260424T085512
CREATED:20260305T072939Z
LAST-MODIFIED:20260305T072939Z
UID:8094-1800885600-1800903600@hojhuset.com
SUMMARY:Nytårskur med HASO. Syng og skål det nye år ind.
DESCRIPTION:Nytårskur med HASO\nEn festlig start på 2026! \nMandag d. 25. januar kl. 14.00 inviterer HASO til byens nytårskur i Højhuset – og du er selvfølgelig inviteret med! \nAftenen begynder med bobler og nytårstale. \nHerefter overtager Herning Amatørsymfoniorkester scenen med festlige toner af både H.C. Lumbye\, Franz Schubert og Johan Strauss. \nEfter koncerten kan man udvide sin aften med fællesspisning i Spisesalen. \nProgram14.00–19.00: Nytårstale og koncert (inkl. et glas champagne ved ankomst) \n19.00–20.00: Fællesspisning \nEfter middagen er der mulighed for at fortsætte hyggen i Pejsestuen. \nBillettyper65 kr. – Koncert inkl. et glas champagne ved ankomst \n200 kr. – Koncert inkl. champagne og fællesspisning \nDet med småt \nBilletter refunderes ikke\, med mindre arrangementet aflyses. \nBemærk! Ved køb fungerer din ordrebekræftelse som billet. Du modtager ingen særskilt billet.
URL:https://hojhuset.com/events/nytaarskur-med-haso-syng-og-skaal-det-nye-aar-ind-4/
CATEGORIES:events
ATTACH;FMTTYPE=image/jpeg:https://hojhuset.com/wp-content/uploads/2025/11/nytaarskur.jpg
END:VEVENT
BEGIN:VEVENT
DTSTART;TZID=Europe/Copenhagen:20270125T140000
DTEND;TZID=Europe/Copenhagen:20270125T200000
DTSTAMP:20260424T085512
CREATED:20260305T073407Z
LAST-MODIFIED:20260305T073407Z
UID:8095-1800885600-1800907200@hojhuset.com
SUMMARY:Nytårskur med HASO. Syng og skål det nye år ind.
DESCRIPTION:Nytårskur med HASO\nEn festlig start på 2026! \nMandag d. 25. januar kl. 14.00 inviterer HASO til byens nytårskur i Højhuset – og du er selvfølgelig inviteret med! \nAftenen begynder med bobler og nytårstale. \nHerefter overtager Herning Amatørsymfoniorkester scenen med festlige toner af både H.C. Lumbye\, Franz Schubert og Johan Strauss. \nEfter koncerten kan man udvide sin aften med fællesspisning i Spisesalen. \nProgram14.00–19.00: Nytårstale og koncert (inkl. et glas champagne ved ankomst) \n19.00–20.00: Fællesspisning \nEfter middagen er der mulighed for at fortsætte hyggen i Pejsestuen. \nBillettyper65 kr. – Koncert inkl. et glas champagne ved ankomst \n200 kr. – Koncert inkl. champagne og fællesspisning \nDet med småt \nBilletter refunderes ikke\, med mindre arrangementet aflyses. \nBemærk! Ved køb fungerer din ordrebekræftelse som billet. Du modtager ingen særskilt billet. \nAllergier skal oplyses til reception@hojhuset.com minimum 2 dage før.
URL:https://hojhuset.com/events/nytaarskur-med-haso-syng-og-skaal-det-nye-aar-ind-5/
CATEGORIES:events
ATTACH;FMTTYPE=image/jpeg:https://hojhuset.com/wp-content/uploads/2025/11/nytaarskur.jpg
END:VEVENT
BEGIN:VEVENT
DTSTART;TZID=Europe/Copenhagen:20270310T173000
DTEND;TZID=Europe/Copenhagen:20270310T180000
DTSTAMP:20260424T085512
CREATED:20260417T085028Z
LAST-MODIFIED:20260417T085844Z
UID:8232-1804699800-1804701600@hojhuset.com
SUMMARY:Cool og klassisk. Fyraftenskoncert
DESCRIPTION:Musikalsk forret på en onsdag \nKom og lyt\, når en lille celeber gruppe af musikere fra Ensemble MidtVest slår tonen an i Pejsestuen til en lille intimkoncert. \nBrug det som en fyraftenskoncert på vej hjem fra arbejde\, eller som en musikalsk forret inden onsdagens fællespisning. \nDet er uhørt meget kvalitet til en uhørt lav pris. \nBook din gratisbillet her \nDet med småt \nBemærk! Ved køb fungerer din ordrebekræftelse som billet. Du modtager ingen særskilt billet.
URL:https://hojhuset.com/events/cool-og-klassisk-fyraftenskoncert-12/
CATEGORIES:events
ATTACH;FMTTYPE=image/jpeg:https://hojhuset.com/wp-content/uploads/2025/05/Ensemble-midtvest-fyraftenskoncert-scaled.jpg
END:VEVENT
BEGIN:VEVENT
DTSTART;TZID=Europe/Copenhagen:20270310T173000
DTEND;TZID=Europe/Copenhagen:20270310T200000
DTSTAMP:20260424T085512
CREATED:20260417T085253Z
LAST-MODIFIED:20260417T085906Z
UID:8233-1804699800-1804708800@hojhuset.com
SUMMARY:Cool og klassisk. Fyraftenskoncert
DESCRIPTION:Musikalsk forret på en onsdag \nKom og lyt\, når en lille celeber gruppe af musikere fra Ensemble MidtVest slår tonen an i Pejsestuen til en lille intimkoncert. \nBrug det som en fyraftenskoncert på vej hjem fra arbejde\, eller som en musikalsk forret inden onsdagens fællespisning. \nDet er uhørt meget kvalitet til en uhørt lav pris. \nBook din gratisbillet her \nFyraftenskoncert + fællesspisning (køb billet her) \nDet med småt \nBemærk! Ved køb fungerer din ordrebekræftelse som billet. Du modtager ingen særskilt billet.
URL:https://hojhuset.com/events/cool-og-klassisk-fyraftenskoncert-13/
CATEGORIES:events
ATTACH;FMTTYPE=image/jpeg:https://hojhuset.com/wp-content/uploads/2025/10/fyraftenskoncert-spisning-scaled.jpg
END:VEVENT
BEGIN:VEVENT
DTSTART;TZID=Europe/Copenhagen:20270411T100000
DTEND;TZID=Europe/Copenhagen:20270411T153000
DTSTAMP:20260424T085512
CREATED:20260325T090452Z
LAST-MODIFIED:20260325T101003Z
UID:8155-1807437600-1807457400@hojhuset.com
SUMMARY:Søndagsstrik i Højhuset
DESCRIPTION:Søndagsstrik i Højhuset. Vi gør det igen. \nFor 5. år i træk samler vi verdens måske sødeste folkefærd\, nemlig strikkerne\, til en hyggelig søndag med social knitting\, søndagsfrokost og spændende talks om strik. \nProgram \nKl. 10.00 Velkomst v. Mette Kokholm og fri strik/mulighed for at komme op og nyde udsigten fra 15. etage/gå på opdagelse i Højhuset \nKl. 11.00 Garnsnak 1. Hvem det er\, kommer senere… \nKl. 12.00 Frokost i Spisesalen \nKl. 13.00 Garnsnak 2. Hvem det er\, kommer senere… \nKl. 14.00 Fri strik og kaffe/sødt \nKl. 15.30 Tak for i dag! \nDu får \n\nFormiddagskaffe\nEn veltillavet frokostret serveret sharefood-style/incl 1 vand\nEftermiddagskaffe med sødt\n2 x talks\nDer vil være mulighed for at se de nyeste produkter fra Muud og for at få en rabatkode.\n\n\nDet med småt\n\n\nBilletter refunderes ikke\, medmindre arrangementet aflyses grundet for få tilmeldte. \nBemærk! Ved køb fungerer din ordrebekræftelse som billet. Du modtager ingen særskilt billet. \nAllergier; bedes oplyses på mail til reception@hojhuset.com senest 4 dage før arrangementsafvikling.
URL:https://hojhuset.com/events/soendagsstrik-i-hoejhuset/
CATEGORIES:events
ATTACH;FMTTYPE=image/png:https://hojhuset.com/wp-content/uploads/2025/06/Soendags-strik-11-scaled.png
END:VEVENT
BEGIN:VEVENT
DTSTART;TZID=Europe/Copenhagen:20270519T173000
DTEND;TZID=Europe/Copenhagen:20270519T180000
DTSTAMP:20260424T085512
CREATED:20260417T085650Z
LAST-MODIFIED:20260417T085931Z
UID:8234-1810747800-1810749600@hojhuset.com
SUMMARY:Cool og klassisk. Fyraftenskoncert
DESCRIPTION:Musikalsk forret på en onsdag \nKom og lyt\, når en lille celeber gruppe af musikere fra Ensemble MidtVest slår tonen an i Pejsestuen til en lille intimkoncert. \nBrug det som en fyraftenskoncert på vej hjem fra arbejde\, eller som en musikalsk forret inden onsdagens fællespisning. \nDet er uhørt meget kvalitet til en uhørt lav pris. \nBook din gratisbillet her \nDet med småt \nBemærk! Ved køb fungerer din ordrebekræftelse som billet. Du modtager ingen særskilt billet.
URL:https://hojhuset.com/events/cool-og-klassisk-fyraftenskoncert-14/
CATEGORIES:events
ATTACH;FMTTYPE=image/jpeg:https://hojhuset.com/wp-content/uploads/2025/05/Ensemble-midtvest-fyraftenskoncert-scaled.jpg
END:VEVENT
BEGIN:VEVENT
DTSTART;TZID=Europe/Copenhagen:20270519T173000
DTEND;TZID=Europe/Copenhagen:20270519T200000
DTSTAMP:20260424T085512
CREATED:20260417T090211Z
LAST-MODIFIED:20260417T090244Z
UID:8235-1810747800-1810756800@hojhuset.com
SUMMARY:Cool og klassisk. Fyraftenskoncert
DESCRIPTION:Musikalsk forret på en onsdag \nKom og lyt\, når en lille celeber gruppe af musikere fra Ensemble MidtVest slår tonen an i Pejsestuen til en lille intimkoncert. \nBrug det som en fyraftenskoncert på vej hjem fra arbejde\, eller som en musikalsk forret inden onsdagens fællespisning. \nDet er uhørt meget kvalitet til en uhørt lav pris. \nBook din gratisbillet her \nFyraftenskoncert + fællesspisning (køb billet her) \nDet med småt \nBemærk! Ved køb fungerer din ordrebekræftelse som billet. Du modtager ingen særskilt billet.
URL:https://hojhuset.com/events/cool-og-klassisk-fyraftenskoncert-15/
CATEGORIES:events
ATTACH;FMTTYPE=image/jpeg:https://hojhuset.com/wp-content/uploads/2025/10/fyraftenskoncert-spisning-scaled.jpg
END:VEVENT
END:VCALENDAR