BEGIN:VCALENDAR
VERSION:2.0
PRODID:-//Højhuset - ECPv6.15.17.1//NONSGML v1.0//EN
CALSCALE:GREGORIAN
METHOD:PUBLISH
X-ORIGINAL-URL:https://hojhuset.com
X-WR-CALDESC:Begivenheder for Højhuset
REFRESH-INTERVAL;VALUE=DURATION:PT1H
X-Robots-Tag:noindex
X-PUBLISHED-TTL:PT1H
BEGIN:VTIMEZONE
TZID:Europe/Copenhagen
BEGIN:DAYLIGHT
TZOFFSETFROM:+0100
TZOFFSETTO:+0200
TZNAME:CEST
DTSTART:20260329T010000
END:DAYLIGHT
BEGIN:STANDARD
TZOFFSETFROM:+0200
TZOFFSETTO:+0100
TZNAME:CET
DTSTART:20261025T010000
END:STANDARD
BEGIN:DAYLIGHT
TZOFFSETFROM:+0100
TZOFFSETTO:+0200
TZNAME:CEST
DTSTART:20270328T010000
END:DAYLIGHT
BEGIN:STANDARD
TZOFFSETFROM:+0200
TZOFFSETTO:+0100
TZNAME:CET
DTSTART:20271031T010000
END:STANDARD
BEGIN:DAYLIGHT
TZOFFSETFROM:+0100
TZOFFSETTO:+0200
TZNAME:CEST
DTSTART:20280326T010000
END:DAYLIGHT
BEGIN:STANDARD
TZOFFSETFROM:+0200
TZOFFSETTO:+0100
TZNAME:CET
DTSTART:20281029T010000
END:STANDARD
END:VTIMEZONE
BEGIN:VEVENT
DTSTART;TZID=Europe/Copenhagen:20270519T173000
DTEND;TZID=Europe/Copenhagen:20270519T180000
DTSTAMP:20260424T160946
CREATED:20260417T085650Z
LAST-MODIFIED:20260417T085931Z
UID:8234-1810747800-1810749600@hojhuset.com
SUMMARY:Cool og klassisk. Fyraftenskoncert
DESCRIPTION:Musikalsk forret på en onsdag \nKom og lyt\, når en lille celeber gruppe af musikere fra Ensemble MidtVest slår tonen an i Pejsestuen til en lille intimkoncert. \nBrug det som en fyraftenskoncert på vej hjem fra arbejde\, eller som en musikalsk forret inden onsdagens fællespisning. \nDet er uhørt meget kvalitet til en uhørt lav pris. \nBook din gratisbillet her \nDet med småt \nBemærk! Ved køb fungerer din ordrebekræftelse som billet. Du modtager ingen særskilt billet.
URL:https://hojhuset.com/events/cool-og-klassisk-fyraftenskoncert-14/
CATEGORIES:events
ATTACH;FMTTYPE=image/jpeg:https://hojhuset.com/wp-content/uploads/2025/05/Ensemble-midtvest-fyraftenskoncert-scaled.jpg
END:VEVENT
BEGIN:VEVENT
DTSTART;TZID=Europe/Copenhagen:20270519T173000
DTEND;TZID=Europe/Copenhagen:20270519T200000
DTSTAMP:20260424T160946
CREATED:20260417T090211Z
LAST-MODIFIED:20260417T090244Z
UID:8235-1810747800-1810756800@hojhuset.com
SUMMARY:Cool og klassisk. Fyraftenskoncert
DESCRIPTION:Musikalsk forret på en onsdag \nKom og lyt\, når en lille celeber gruppe af musikere fra Ensemble MidtVest slår tonen an i Pejsestuen til en lille intimkoncert. \nBrug det som en fyraftenskoncert på vej hjem fra arbejde\, eller som en musikalsk forret inden onsdagens fællespisning. \nDet er uhørt meget kvalitet til en uhørt lav pris. \nBook din gratisbillet her \nFyraftenskoncert + fællesspisning (køb billet her) \nDet med småt \nBemærk! Ved køb fungerer din ordrebekræftelse som billet. Du modtager ingen særskilt billet.
URL:https://hojhuset.com/events/cool-og-klassisk-fyraftenskoncert-15/
CATEGORIES:events
ATTACH;FMTTYPE=image/jpeg:https://hojhuset.com/wp-content/uploads/2025/10/fyraftenskoncert-spisning-scaled.jpg
END:VEVENT
END:VCALENDAR