BEGIN:VCALENDAR
VERSION:2.0
PRODID:-//Højhuset - ECPv6.15.17.1//NONSGML v1.0//EN
CALSCALE:GREGORIAN
METHOD:PUBLISH
X-WR-CALNAME:Højhuset
X-ORIGINAL-URL:https://hojhuset.com
X-WR-CALDESC:Begivenheder for Højhuset
REFRESH-INTERVAL;VALUE=DURATION:PT1H
X-Robots-Tag:noindex
X-PUBLISHED-TTL:PT1H
BEGIN:VTIMEZONE
TZID:Europe/Copenhagen
BEGIN:DAYLIGHT
TZOFFSETFROM:+0100
TZOFFSETTO:+0200
TZNAME:CEST
DTSTART:20250330T010000
END:DAYLIGHT
BEGIN:STANDARD
TZOFFSETFROM:+0200
TZOFFSETTO:+0100
TZNAME:CET
DTSTART:20251026T010000
END:STANDARD
BEGIN:DAYLIGHT
TZOFFSETFROM:+0100
TZOFFSETTO:+0200
TZNAME:CEST
DTSTART:20260329T010000
END:DAYLIGHT
BEGIN:STANDARD
TZOFFSETFROM:+0200
TZOFFSETTO:+0100
TZNAME:CET
DTSTART:20261025T010000
END:STANDARD
BEGIN:DAYLIGHT
TZOFFSETFROM:+0100
TZOFFSETTO:+0200
TZNAME:CEST
DTSTART:20270328T010000
END:DAYLIGHT
BEGIN:STANDARD
TZOFFSETFROM:+0200
TZOFFSETTO:+0100
TZNAME:CET
DTSTART:20271031T010000
END:STANDARD
END:VTIMEZONE
BEGIN:VEVENT
DTSTART;TZID=Europe/Copenhagen:20260701T180000
DTEND;TZID=Europe/Copenhagen:20260701T190000
DTSTAMP:20260423T214405
CREATED:20260226T121923Z
LAST-MODIFIED:20260309T081859Z
UID:8070-1782928800-1782932400@hojhuset.com
SUMMARY:Fællesspisning hver mandag og onsdag
DESCRIPTION:Vil du være med til fællesspisning? \nMiddagen starter kl. 18.00. Vi sidder sammen ved langborde\, og dagens lækre økologiske måltid deles fra store fade ved hvert bord. \nDu skal måske bede din nabo om at give dig brødet og til gengæld række salaten. Som var du derhjemme. \nBEMÆRK: Vi anbefaler\, at du ankommer lidt tidligere\, så du kan nå at købe drikkevarer i baren\, inden middagen starter. \nDørene åbner allerede kl. 17\, så har man lyst til et glas i Pejsestuen\, et slag bordtennis eller en gåtur i vores spændende hus inden middagen\, er man mere end velkommen. \nDet koster 140 kr. pr. voksen\, 40 kr. pr. barn (0-2 år) og 70 kr. pr. barn (3 – 11 år) \n  \nAllergier skal oplyses til reception@hojhuset.com minimum 2 dage før. \nDer er fællesspisning hver mandag og onsdag i 2026. \nBilletter refunderes ikke\, med mindre arrangementet aflyses.\nVi gennemfører ved min. 15 tilmeldte. \nBemærk! Ved køb fungerer din ordrebekræftelse som billet. Du modtager ingen særskilt billet.
URL:https://hojhuset.com/events/faellesspisning-hver-mandag-og-onsdag-163/
CATEGORIES:events
ATTACH;FMTTYPE=image/jpeg:https://hojhuset.com/wp-content/uploads/2026/02/B0006704-4_edited.jpg
END:VEVENT
BEGIN:VEVENT
DTSTART;TZID=Europe/Copenhagen:20260706T180000
DTEND;TZID=Europe/Copenhagen:20260706T190000
DTSTAMP:20260423T214405
CREATED:20260226T122058Z
LAST-MODIFIED:20260309T081912Z
UID:8071-1783360800-1783364400@hojhuset.com
SUMMARY:Fællesspisning hver mandag og onsdag
DESCRIPTION:Vil du være med til fællesspisning? \nMiddagen starter kl. 18.00. Vi sidder sammen ved langborde\, og dagens lækre økologiske måltid deles fra store fade ved hvert bord. \nDu skal måske bede din nabo om at give dig brødet og til gengæld række salaten. Som var du derhjemme. \nBEMÆRK: Vi anbefaler\, at du ankommer lidt tidligere\, så du kan nå at købe drikkevarer i baren\, inden middagen starter. \nDørene åbner allerede kl. 17\, så har man lyst til et glas i Pejsestuen\, et slag bordtennis eller en gåtur i vores spændende hus inden middagen\, er man mere end velkommen. \nDet koster 140 kr. pr. voksen\, 40 kr. pr. barn (0-2 år) og 70 kr. pr. barn (3 – 11 år) \n  \nAllergier skal oplyses til reception@hojhuset.com minimum 2 dage før. \nDer er fællesspisning hver mandag og onsdag i 2026. \nBilletter refunderes ikke\, med mindre arrangementet aflyses.\nVi gennemfører ved min. 15 tilmeldte. \nBemærk! Ved køb fungerer din ordrebekræftelse som billet. Du modtager ingen særskilt billet.
URL:https://hojhuset.com/events/faellesspisning-hver-mandag-og-onsdag-164/
CATEGORIES:events
ATTACH;FMTTYPE=image/jpeg:https://hojhuset.com/wp-content/uploads/2026/02/B0006704-4_edited.jpg
END:VEVENT
BEGIN:VEVENT
DTSTART;TZID=Europe/Copenhagen:20260708T180000
DTEND;TZID=Europe/Copenhagen:20260708T190000
DTSTAMP:20260423T214405
CREATED:20260226T122258Z
LAST-MODIFIED:20260309T081925Z
UID:8072-1783533600-1783537200@hojhuset.com
SUMMARY:Fællesspisning hver mandag og onsdag
DESCRIPTION:Vil du være med til fællesspisning? \nMiddagen starter kl. 18.00. Vi sidder sammen ved langborde\, og dagens lækre økologiske måltid deles fra store fade ved hvert bord. \nDu skal måske bede din nabo om at give dig brødet og til gengæld række salaten. Som var du derhjemme. \nBEMÆRK: Vi anbefaler\, at du ankommer lidt tidligere\, så du kan nå at købe drikkevarer i baren\, inden middagen starter. \nDørene åbner allerede kl. 17\, så har man lyst til et glas i Pejsestuen\, et slag bordtennis eller en gåtur i vores spændende hus inden middagen\, er man mere end velkommen. \nDet koster 140 kr. pr. voksen\, 40 kr. pr. barn (0-2 år) og 70 kr. pr. barn (3 – 11 år) \n  \nAllergier skal oplyses til reception@hojhuset.com minimum 2 dage før. \nDer er fællesspisning hver mandag og onsdag i 2026. \nBilletter refunderes ikke\, med mindre arrangementet aflyses.\nVi gennemfører ved min. 15 tilmeldte. \nBemærk! Ved køb fungerer din ordrebekræftelse som billet. Du modtager ingen særskilt billet.
URL:https://hojhuset.com/events/faellesspisning-hver-mandag-og-onsdag-165/
CATEGORIES:events
ATTACH;FMTTYPE=image/jpeg:https://hojhuset.com/wp-content/uploads/2026/02/B0006704-4_edited.jpg
END:VEVENT
BEGIN:VEVENT
DTSTART;TZID=Europe/Copenhagen:20260727T180000
DTEND;TZID=Europe/Copenhagen:20260727T190000
DTSTAMP:20260423T214405
CREATED:20260226T123103Z
LAST-MODIFIED:20260309T082213Z
UID:8077-1785175200-1785178800@hojhuset.com
SUMMARY:Fællesspisning hver mandag og onsdag
DESCRIPTION:Vil du være med til fællesspisning? \nMiddagen starter kl. 18.00. Vi sidder sammen ved langborde\, og dagens lækre økologiske måltid deles fra store fade ved hvert bord. \nDu skal måske bede din nabo om at give dig brødet og til gengæld række salaten. Som var du derhjemme. \nBEMÆRK: Vi anbefaler\, at du ankommer lidt tidligere\, så du kan nå at købe drikkevarer i baren\, inden middagen starter. \nDørene åbner allerede kl. 17\, så har man lyst til et glas i Pejsestuen\, et slag bordtennis eller en gåtur i vores spændende hus inden middagen\, er man mere end velkommen. \nDet koster 140 kr. pr. voksen\, 40 kr. pr. barn (0-2 år) og 70 kr. pr. barn (3 – 11 år) \n  \nAllergier skal oplyses til reception@hojhuset.com minimum 2 dage før. \nDer er fællesspisning hver mandag og onsdag i 2026. \nBilletter refunderes ikke\, med mindre arrangementet aflyses.\nVi gennemfører ved min. 15 tilmeldte. \nBemærk! Ved køb fungerer din ordrebekræftelse som billet. Du modtager ingen særskilt billet.
URL:https://hojhuset.com/events/faellesspisning-hver-mandag-og-onsdag-170/
CATEGORIES:events
ATTACH;FMTTYPE=image/jpeg:https://hojhuset.com/wp-content/uploads/2026/02/B0006704-4_edited.jpg
END:VEVENT
BEGIN:VEVENT
DTSTART;TZID=Europe/Copenhagen:20260729T180000
DTEND;TZID=Europe/Copenhagen:20260729T190000
DTSTAMP:20260423T214405
CREATED:20260226T123241Z
LAST-MODIFIED:20260309T082224Z
UID:8078-1785348000-1785351600@hojhuset.com
SUMMARY:Fællesspisning hver mandag og onsdag
DESCRIPTION:Vil du være med til fællesspisning? \nMiddagen starter kl. 18.00. Vi sidder sammen ved langborde\, og dagens lækre økologiske måltid deles fra store fade ved hvert bord. \nDu skal måske bede din nabo om at give dig brødet og til gengæld række salaten. Som var du derhjemme. \nBEMÆRK: Vi anbefaler\, at du ankommer lidt tidligere\, så du kan nå at købe drikkevarer i baren\, inden middagen starter. \nDørene åbner allerede kl. 17\, så har man lyst til et glas i Pejsestuen\, et slag bordtennis eller en gåtur i vores spændende hus inden middagen\, er man mere end velkommen. \nDet koster 140 kr. pr. voksen\, 40 kr. pr. barn (0-2 år) og 70 kr. pr. barn (3 – 11 år) \n  \nAllergier skal oplyses til reception@hojhuset.com minimum 2 dage før. \nDer er fællesspisning hver mandag og onsdag i 2026. \nBilletter refunderes ikke\, med mindre arrangementet aflyses.\nVi gennemfører ved min. 15 tilmeldte. \nBemærk! Ved køb fungerer din ordrebekræftelse som billet. Du modtager ingen særskilt billet.
URL:https://hojhuset.com/events/faellesspisning-hver-mandag-og-onsdag-171/
CATEGORIES:events
ATTACH;FMTTYPE=image/jpeg:https://hojhuset.com/wp-content/uploads/2026/02/B0006704-4_edited.jpg
END:VEVENT
END:VCALENDAR