BEGIN:VCALENDAR
VERSION:2.0
PRODID:-//Højhuset - ECPv6.15.17.1//NONSGML v1.0//EN
CALSCALE:GREGORIAN
METHOD:PUBLISH
X-WR-CALNAME:Højhuset
X-ORIGINAL-URL:https://hojhuset.com
X-WR-CALDESC:Begivenheder for Højhuset
REFRESH-INTERVAL;VALUE=DURATION:PT1H
X-Robots-Tag:noindex
X-PUBLISHED-TTL:PT1H
BEGIN:VTIMEZONE
TZID:Europe/Copenhagen
BEGIN:DAYLIGHT
TZOFFSETFROM:+0100
TZOFFSETTO:+0200
TZNAME:CEST
DTSTART:20250330T010000
END:DAYLIGHT
BEGIN:STANDARD
TZOFFSETFROM:+0200
TZOFFSETTO:+0100
TZNAME:CET
DTSTART:20251026T010000
END:STANDARD
BEGIN:DAYLIGHT
TZOFFSETFROM:+0100
TZOFFSETTO:+0200
TZNAME:CEST
DTSTART:20260329T010000
END:DAYLIGHT
BEGIN:STANDARD
TZOFFSETFROM:+0200
TZOFFSETTO:+0100
TZNAME:CET
DTSTART:20261025T010000
END:STANDARD
BEGIN:DAYLIGHT
TZOFFSETFROM:+0100
TZOFFSETTO:+0200
TZNAME:CEST
DTSTART:20270328T010000
END:DAYLIGHT
BEGIN:STANDARD
TZOFFSETFROM:+0200
TZOFFSETTO:+0100
TZNAME:CET
DTSTART:20271031T010000
END:STANDARD
END:VTIMEZONE
BEGIN:VEVENT
DTSTART;TZID=Europe/Copenhagen:20260107T180000
DTEND;TZID=Europe/Copenhagen:20260107T190000
DTSTAMP:20260423T195511
CREATED:20251117T124121Z
LAST-MODIFIED:20260107T084641Z
UID:7604-1767808800-1767812400@hojhuset.com
SUMMARY:Fællesspisning hver mandag og onsdag
DESCRIPTION:Vil du være med til fællesspisning? \nMiddagen starter kl. 18.00. Vi sidder sammen ved langborde\, og dagens lækre økologiske måltid deles fra store fade ved hvert bord. \nDu skal måske bede din nabo om at give dig brødet og til gengæld række salaten. Som var du derhjemme. \nBEMÆRK: Vi anbefaler\, at du ankommer lidt tidligere\, så du kan nå at købe drikkevarer i baren\, inden middagen starter. \nDørene åbner allerede kl. 17\, så har man lyst til et glas i Pejsestuen\, et slag bordtennis eller en gåtur i vores spændende hus inden middagen\, er man mere end velkommen. \nDet koster 140 kr. pr. voksen og 70 kr. pr. barn (til og med 10 år). Middagen er gratis for børn under 3 år. \nDet med småt \nAllergier skal oplyses til reception@hojhuset.com minimum 2 dage før. \nDer er fællesspisning hver mandag og onsdag i 2026. \nBilletter refunderes ikke\, med mindre arrangementet aflyses.\nVi gennemfører ved min. 15 tilmeldte.
URL:https://hojhuset.com/events/faellesspisning-hver-mandag-og-onsdag-17/
CATEGORIES:events
END:VEVENT
BEGIN:VEVENT
DTSTART;TZID=Europe/Copenhagen:20260112T180000
DTEND;TZID=Europe/Copenhagen:20260112T190000
DTSTAMP:20260423T195511
CREATED:20251117T124323Z
LAST-MODIFIED:20251117T125626Z
UID:7605-1768240800-1768244400@hojhuset.com
SUMMARY:Fællesspisning hver mandag og onsdag
DESCRIPTION:Vil du være med til fællesspisning? \nMiddagen starter kl. 18.00. Vi sidder sammen ved langborde\, og dagens lækre økologiske måltid deles fra store fade ved hvert bord. \nDu skal måske bede din nabo om at give dig brødet og til gengæld række salaten. Som var du derhjemme. \nBEMÆRK: Vi anbefaler\, at du ankommer lidt tidligere\, så du kan nå at købe drikkevarer i baren\, inden middagen starter. \nDørene åbner allerede kl. 17\, så har man lyst til et glas i Pejsestuen\, et slag bordtennis eller en gåtur i vores spændende hus inden middagen\, er man mere end velkommen. \nDet koster 140 kr. pr. voksen og 70 kr. pr. barn (til og med 10 år). Middagen er gratis for børn under 3 år. \n  \nAllergier skal oplyses til reception@hojhuset.com minimum 2 dage før. \nDer er fællesspisning hver mandag og onsdag i 2026. \nBilletter refunderes ikke\, med mindre arrangementet aflyses.\nVi gennemfører ved min. 15 tilmeldte.
URL:https://hojhuset.com/events/faellesspisning-hver-mandag-og-onsdag-34/
CATEGORIES:events
ATTACH;FMTTYPE=image/jpeg:https://hojhuset.com/wp-content/uploads/2025/03/Hojhuset-2078-scaled.jpg
END:VEVENT
BEGIN:VEVENT
DTSTART;TZID=Europe/Copenhagen:20260114T170000
DTEND;TZID=Europe/Copenhagen:20260114T180000
DTSTAMP:20260423T195511
CREATED:20250917T132038Z
LAST-MODIFIED:20260106T115818Z
UID:7472-1768410000-1768413600@hojhuset.com
SUMMARY:Rundvisning for alle
DESCRIPTION:Skal du til fællesspisning onsdag d. 14 januar? Vil du så ikke med til en rundvisning inden middagen? \nKom til rundvisning og hør historien om Højhuset Kulturhotel. Vi vil så gerne vise huset frem – fra foyeren til udsigten fra 16. etage. \nGratis\, men tilmelding er nødvendig
URL:https://hojhuset.com/events/rundvisning-for-alle-i-hoejhuset-kulturhotel-herning-14-januar-2026/
CATEGORIES:events
END:VEVENT
BEGIN:VEVENT
DTSTART;TZID=Europe/Copenhagen:20260114T180000
DTEND;TZID=Europe/Copenhagen:20260114T190000
DTSTAMP:20260423T195511
CREATED:20251117T124608Z
LAST-MODIFIED:20251117T125638Z
UID:7606-1768413600-1768417200@hojhuset.com
SUMMARY:Fællesspisning hver mandag og onsdag
DESCRIPTION:Vil du være med til fællesspisning? \nMiddagen starter kl. 18.00. Vi sidder sammen ved langborde\, og dagens lækre økologiske måltid deles fra store fade ved hvert bord. \nDu skal måske bede din nabo om at give dig brødet og til gengæld række salaten. Som var du derhjemme. \nBEMÆRK: Vi anbefaler\, at du ankommer lidt tidligere\, så du kan nå at købe drikkevarer i baren\, inden middagen starter. \nDørene åbner allerede kl. 17\, så har man lyst til et glas i Pejsestuen\, et slag bordtennis eller en gåtur i vores spændende hus inden middagen\, er man mere end velkommen. \nDet koster 140 kr. pr. voksen og 70 kr. pr. barn (til og med 10 år). Middagen er gratis for børn under 3 år. \n  \nAllergier skal oplyses til reception@hojhuset.com minimum 2 dage før. \nDer er fællesspisning hver mandag og onsdag i 2026. \nBilletter refunderes ikke\, med mindre arrangementet aflyses.\nVi gennemfører ved min. 15 tilmeldte.
URL:https://hojhuset.com/events/faellesspisning-hver-mandag-og-onsdag-50/
CATEGORIES:events
ATTACH;FMTTYPE=image/jpeg:https://hojhuset.com/wp-content/uploads/2025/03/Hojhuset-2078-scaled.jpg
END:VEVENT
BEGIN:VEVENT
DTSTART;TZID=Europe/Copenhagen:20260115T150000
DTEND;TZID=Europe/Copenhagen:20260201T110000
DTSTAMP:20260423T195511
CREATED:20250314T075448Z
LAST-MODIFIED:20250314T075618Z
UID:6991-1768489200-1769943600@hojhuset.com
SUMMARY:EM i Herrehåndbold ophold
DESCRIPTION:Skal du til EM i Herrehåndbold den 15. jan – 1. feb? \nSå kunne du måske godt have brug for et sted at overnatte. \n  \nEn overnatning i Højhuset Kulturhotel: \nEnkeltværelse fra 495 kr \nDobbeltværelse fra 895 kr \nØkologisk morgenmad i spisesalen er inkluderet i prisen.
URL:https://hojhuset.com/events/em-i-herrehaanbold-ophold/
CATEGORIES:events
ATTACH;FMTTYPE=image/png:https://hojhuset.com/wp-content/uploads/2025/03/EM-I-HERREHAaNDBOLD1.png
END:VEVENT
BEGIN:VEVENT
DTSTART;TZID=Europe/Copenhagen:20260121T180000
DTEND;TZID=Europe/Copenhagen:20260121T190000
DTSTAMP:20260423T195511
CREATED:20251117T125101Z
LAST-MODIFIED:20251117T125709Z
UID:7608-1769018400-1769022000@hojhuset.com
SUMMARY:Fællesspisning hver mandag og onsdag
DESCRIPTION:Vil du være med til fællesspisning? \nMiddagen starter kl. 18.00. Vi sidder sammen ved langborde\, og dagens lækre økologiske måltid deles fra store fade ved hvert bord. \nDu skal måske bede din nabo om at give dig brødet og til gengæld række salaten. Som var du derhjemme. \nBEMÆRK: Vi anbefaler\, at du ankommer lidt tidligere\, så du kan nå at købe drikkevarer i baren\, inden middagen starter. \nDørene åbner allerede kl. 17\, så har man lyst til et glas i Pejsestuen\, et slag bordtennis eller en gåtur i vores spændende hus inden middagen\, er man mere end velkommen. \nDet koster 140 kr. pr. voksen og 70 kr. pr. barn (til og med 10 år). Middagen er gratis for børn under 3 år. \n  \nAllergier skal oplyses til reception@hojhuset.com minimum 2 dage før. \nDer er fællesspisning hver mandag og onsdag i 2026. \nBilletter refunderes ikke\, med mindre arrangementet aflyses.\nVi gennemfører ved min. 15 tilmeldte.
URL:https://hojhuset.com/events/faellesspisning-hver-mandag-og-onsdag-113/
CATEGORIES:events
ATTACH;FMTTYPE=image/jpeg:https://hojhuset.com/wp-content/uploads/2025/03/Hojhuset-2078-scaled.jpg
END:VEVENT
BEGIN:VEVENT
DTSTART;TZID=Europe/Copenhagen:20260123T180000
DTEND;TZID=Europe/Copenhagen:20260123T210000
DTSTAMP:20260423T195511
CREATED:20250825T090700Z
LAST-MODIFIED:20251210T093057Z
UID:7398-1769191200-1769202000@hojhuset.com
SUMMARY:SingAlong-koncert med alle de bedste Grand Prix-sange
DESCRIPTION:Melodi Grand Prix fylder 70 år. Det skal fejres! \nDer er glitter og glimt i øjnene og i Ole Jørgensens skjorte\, når han skruer op for mikrofonen til en forrygende Melodi Grand Prix-aften. Som jubilæumskoncert og som opvarmning til det rigtige Melodi Grand Prix i februar\, vil Ole med musikalsk ledsagelse føre publikum gennem de største Grand Prix-hits gennem tiden\, og der vil være rig mulighed for at synge med på alle yndlingssangene med Anne\, Kirsten\, Søren\, Gry\, Tommy\, Birthe… \nDet bliver en aften med grin og glimmer\, stramme bukser og rejehop! \nDer vil være mulighed for at udvide sin aften med Grand Prix-spisning inden singalong-koncerten i Foredragssalen. \nProgram \n18.00 Grand Prix-spisning i Spisesalen; en veltillavet sharefood-ret lavet på sæsonens bedste råvarer. Drikkevarer tilkøbes i baren. \n19.30-21.00 Koncert \nMusikken \nSang og konferencier: Ole Jørgensen \nKeyboard: Jesper Bauder \nTrommer og percussion: Thomas Ousager \n+Det lækreste Grand Prix-kor \n+ Det store fællessangskor: DIG – og alle de andre publikummer \nBillettyper \nKoncertbillet: 185 kr \nKoncert + spisning: 435 kr \nDiverse \nBaren er åben før\, under og efter koncerten. \nTag bare gry-støvlerne på – det gør de andre sikkert også. \nBilletter refunderes ikke\, medmindre arrangementet aflyses grundet for få tilmeldte.
URL:https://hojhuset.com/events/singalong-koncert-med-alle-de-bedste-grand-prix-sange/
CATEGORIES:events
END:VEVENT
BEGIN:VEVENT
DTSTART;TZID=Europe/Copenhagen:20260123T193000
DTEND;TZID=Europe/Copenhagen:20260123T210000
DTSTAMP:20260423T195511
CREATED:20250521T095942Z
LAST-MODIFIED:20251210T093116Z
UID:7177-1769196600-1769202000@hojhuset.com
SUMMARY:SingAlong-koncert med alle de bedste Grand Prix-sange
DESCRIPTION:Melodi Grand Prix fylder 70 år. Det skal fejres! \nDer er glitter og glimt i øjnene og i Ole Jørgensens skjorte\, når han skruer op for mikrofonen til en forrygende Melodi Grand Prix-aften. Som jubilæumskoncert og som opvarmning til det rigtige Melodi Grand Prix i februar\, vil Ole med musikalsk ledsagelse føre publikum gennem de største Grand Prix-hits gennem tiden\, og der vil være rig mulighed for at synge med på alle yndlingssangene med Anne\, Kirsten\, Søren\, Gry\, Tommy\, Birthe… \nDet bliver en aften med grin og glimmer\, stramme bukser og rejehop! \nDer vil være mulighed for at udvide sin aften med Grand Prix-spisning inden singalong-koncerten i Foredragssalen. \nProgram \n18.00 Grand Prix-spisning i Spisesalen; en veltillavet sharefood-ret lavet på sæsonens bedste råvarer. Drikkevarer tilkøbes i baren. \n19.30-21.00 Koncert \nMusikken \nSang og konferencier: Ole Jørgensen \nKeyboard: Jesper Bauder \nTrommer og percussion: Thomas Ousager \n+Det lækreste Grand Prix-kor \n+ Det store fællessangskor: DIG – og alle de andre publikummer \nBillettyper \nKoncertbillet: 185 kr \nKoncert + spisning: 435 kr \nDiverse \nBaren er åben før\, under og efter koncerten. \nTag bare gry-støvlerne på – det gør de andre sikkert også. \nBilletter refunderes ikke\, medmindre arrangementet aflyses grundet for få tilmeldte.
URL:https://hojhuset.com/events/singalong-koncert-med-alle-de-bedste-grandprix-sange/
CATEGORIES:events
END:VEVENT
BEGIN:VEVENT
DTSTART;TZID=Europe/Copenhagen:20260126T170000
DTEND;TZID=Europe/Copenhagen:20260126T180000
DTSTAMP:20260423T195511
CREATED:20250704T121934Z
LAST-MODIFIED:20260108T072402Z
UID:7269-1769446800-1769450400@hojhuset.com
SUMMARY:Nytårskur med HASO. Syng og skål det nye år ind.
DESCRIPTION:KØB BILLET\nNytårskur med HASO\nEn festlig start på 2026! \nMandag d. 26. januar kl. 17.00 inviterer HASO til byens nytårskur i Højhuset – og du er selvfølgelig inviteret med! \nAftenen begynder med bobler og nytårstale af borgmester Dorte West. \nHerefter overtager Herning Amatørsymfoniorkester scenen med festlige toner af både H.C. Lumbye\, Franz Schubert og Johan Strauss. \nEfter koncerten kan man udvide sin aften med fællesspisning i Spisesalen. \nProgram17.00–18.00: Nytårstale og koncert (inkl. et glas champagne ved ankomst) \n18.00–19.00: Fællesspisning \nEfter middagen er der mulighed for at fortsætte hyggen i Pejsestuen. \nBillettyper65 kr. – Koncert inkl. et glas champagne ved ankomst \n200 kr. – Koncert inkl. champagne og fællesspisning \nDet med småt \nAllergier skal oplyses til reception@hojhuset.com minimum 2 dage før. \nBilletter refunderes ikke\, med mindre arrangementet aflyses.
URL:https://hojhuset.com/events/nytaarskur-med-haso-syng-og-skaal-det-nye-aar-ind-2/
CATEGORIES:events
ATTACH;FMTTYPE=image/jpeg:https://hojhuset.com/wp-content/uploads/2025/07/Nytaarskud-udsolgt.jpg
END:VEVENT
BEGIN:VEVENT
DTSTART;TZID=Europe/Copenhagen:20260126T170000
DTEND;TZID=Europe/Copenhagen:20260126T190000
DTSTAMP:20260423T195511
CREATED:20251103T112845Z
LAST-MODIFIED:20260108T072431Z
UID:7568-1769446800-1769454000@hojhuset.com
SUMMARY:Nytårskur med HASO. Syng og skål det nye år ind.
DESCRIPTION:KØB BILLET\n  \nNytårskur med HASO\nEn festlig start på 2026! \nMandag d. 26. januar kl. 17.00 inviterer HASO til byens nytårskur i Højhuset – og du er selvfølgelig inviteret med! \nAftenen begynder med bobler og nytårstale af borgmester Dorte West. \nHerefter overtager Herning Amatørsymfoniorkester scenen med festlige toner af både H.C. Lumbye\, Franz Schubert og Johan Strauss. \nEfter koncerten kan man udvide sin aften med fællesspisning i Spisesalen. \nProgram17.00–18.00: Nytårstale og koncert (inkl. et glas champagne ved ankomst) \n18.00–19.00: Fællesspisning \nEfter middagen er der mulighed for at fortsætte hyggen i Pejsestuen. \nBillettyper65 kr. – Koncert inkl. et glas champagne ved ankomst \n200 kr. – Koncert inkl. champagne og fællesspisning \nDet med småt \nAllergier skal oplyses til reception@hojhuset.com minimum 2 dage før. \nBilletter refunderes ikke\, med mindre arrangementet aflyses.
URL:https://hojhuset.com/events/nytaarskur-med-haso-syng-og-skaal-det-nye-aar-ind-3/
CATEGORIES:events
ATTACH;FMTTYPE=image/jpeg:https://hojhuset.com/wp-content/uploads/2025/07/Nytaarskud-udsolgt.jpg
END:VEVENT
BEGIN:VEVENT
DTSTART;TZID=Europe/Copenhagen:20260126T180000
DTEND;TZID=Europe/Copenhagen:20260126T190000
DTSTAMP:20260423T195511
CREATED:20251117T125316Z
LAST-MODIFIED:20251117T125722Z
UID:7609-1769450400-1769454000@hojhuset.com
SUMMARY:Fællesspisning hver mandag og onsdag
DESCRIPTION:Vil du være med til fællesspisning? \nMiddagen starter kl. 18.00. Vi sidder sammen ved langborde\, og dagens lækre økologiske måltid deles fra store fade ved hvert bord. \nDu skal måske bede din nabo om at give dig brødet og til gengæld række salaten. Som var du derhjemme. \nBEMÆRK: Vi anbefaler\, at du ankommer lidt tidligere\, så du kan nå at købe drikkevarer i baren\, inden middagen starter. \nDørene åbner allerede kl. 17\, så har man lyst til et glas i Pejsestuen\, et slag bordtennis eller en gåtur i vores spændende hus inden middagen\, er man mere end velkommen. \nDet koster 140 kr. pr. voksen og 70 kr. pr. barn (til og med 10 år). Middagen er gratis for børn under 3 år. \n  \nAllergier skal oplyses til reception@hojhuset.com minimum 2 dage før. \nDer er fællesspisning hver mandag og onsdag i 2026. \nBilletter refunderes ikke\, med mindre arrangementet aflyses.\nVi gennemfører ved min. 15 tilmeldte.
URL:https://hojhuset.com/events/faellesspisning-hver-mandag-og-onsdag-116/
CATEGORIES:events
ATTACH;FMTTYPE=image/jpeg:https://hojhuset.com/wp-content/uploads/2025/03/Hojhuset-2078-scaled.jpg
END:VEVENT
BEGIN:VEVENT
DTSTART;TZID=Europe/Copenhagen:20260128T180000
DTEND;TZID=Europe/Copenhagen:20260128T190000
DTSTAMP:20260423T195511
CREATED:20251117T125519Z
LAST-MODIFIED:20251117T125519Z
UID:7610-1769623200-1769626800@hojhuset.com
SUMMARY:Fællesspisning hver mandag og onsdag
DESCRIPTION:Vil du være med til fællesspisning? \nMiddagen starter kl. 18.00. Vi sidder sammen ved langborde\, og dagens lækre økologiske måltid deles fra store fade ved hvert bord. \nDu skal måske bede din nabo om at give dig brødet og til gengæld række salaten. Som var du derhjemme. \nBEMÆRK: Vi anbefaler\, at du ankommer lidt tidligere\, så du kan nå at købe drikkevarer i baren\, inden middagen starter. \nDørene åbner allerede kl. 17\, så har man lyst til et glas i Pejsestuen\, et slag bordtennis eller en gåtur i vores spændende hus inden middagen\, er man mere end velkommen. \nDet koster 140 kr. pr. voksen og 70 kr. pr. barn (til og med 10 år). Middagen er gratis for børn under 3 år. \n  \nAllergier skal oplyses til reception@hojhuset.com minimum 2 dage før. \nDer er fællesspisning hver mandag og onsdag i 2026. \nBilletter refunderes ikke\, med mindre arrangementet aflyses.\nVi gennemfører ved min. 15 tilmeldte.
URL:https://hojhuset.com/events/faellesspisning-hver-mandag-og-onsdag-124/
CATEGORIES:events
ATTACH;FMTTYPE=image/jpeg:https://hojhuset.com/wp-content/uploads/2025/03/Hojhuset-2078-scaled.jpg
END:VEVENT
BEGIN:VEVENT
DTSTART;TZID=Europe/Copenhagen:20260128T180000
DTEND;TZID=Europe/Copenhagen:20260128T210000
DTSTAMP:20260423T195511
CREATED:20251119T115853Z
LAST-MODIFIED:20251218T095428Z
UID:7621-1769623200-1769634000@hojhuset.com
SUMMARY:Togrejser for begyndere
DESCRIPTION:KØB BILLET \nTogrejser for begyndere \nSkal din næste ferie foregå på skinner? Så kom og hør forfatter Nanna Hyldgaard Hansen fortælle om bogen “Togrejser for begyndere.” \nI toget bliver selve rejsen en del af oplevelsen\, og foredraget gør det let at komme i gang.\nHvordan bestiller man pladsbilletter i udlandet? Hvordan undgår man stress ved forsinkelser? Og hvor lang tid bør man sætte af til et togskift? \nForedraget er fyldt med praktiske tips\, så du nemt kan planlægge dine egne togferier – uanset om du rejser alene\, med familien eller som par i en moden alder.\nDu får tips til\, hvordan du kan sikre dig en rolig og behagelig rejse – for eksempel ved at købe billetter til 1. klasse\, hvor prisforskellen ofte er lille\, men komforten stor. Her er der god plads til at slappe af og mulighed for servering undervejs. \nDer vil være guides til at: \n• finde de billigste togbilletter\n• hvordan og hvor man kan tilbringe ventetiden rart på store banegårde\n• rejse med interrail og seniorrail\n• gode steder at få hjælp til at planlægge rejsen og bestille billetter\n• få penge tilbage ved forsinkelser\n• selv bestille billetter i forskellige lande\n• køre med nattog\n• spise i restaurantvogne\n• togskift og bagageopbevaring\n• få en billig rejse gennem boligbytte \nTogrejser handler ikke kun om at komme fra A til B. Det er en også ferieform\, hvor man kan nyde tiden sammen\, spise aftensmad i en hyggelig spisevogn eller suse gennem landskabet med 300 kilometer i timen i et fransk TGV-tog. Det er oplevelsen af at falde i søvn til togets vuggen i én by og vågne op i en anden\, mens man får serveret morgenmad i sin sovekupé. \nUnder foredraget får du også idéer til sjove steder at holde ferie og få en masse nye oplevelser både i Danmarks nabolande og lidt længere væk. Der er rejser på alle årstider. Alle steder er valgt ud fra\, at de er nemme at komme til med tog. \nOm forfatteren\nNanna Hyldgaard Hansen er forfatter\, foredragsholder og journalist. Hun har beskæftiget sig med klima og bæredygtighed gennem det meste af sit arbejdsliv og har nu skrevet fire bøger med forskellige tilgange til emnet.\nNannas første bog “Lev for det halve” blev en bestseller\, efterfulgt af de ligeledes populære “Rig på tid” og “Staycation Danmark med børn.” Nanna fortæller ofte om sine bøger i radio\, aviser og tv\, blandt andet i Go’ Morgen Danmark.\nHun formidler helt uden løftede pegefingre. I stedet sætter Nanna fokus på alle de fordele\, som et mere roligt og klimavenligt liv kan give den enkelte.\nBogen “Togrejser for Begyndere” er netop udkommet i år. Læs mere på www.levfordethalve.dk \n\nProgram\n18.00 Fællesspisning i Spisesalen (mulighed for kombi-billet)\n19.00 Foredrag i Foredragssalen\, incl pause/mulighed for spørgsmål\n21.00 Tak for i aften\nDet med småt \n\nForbehold for aflysning; Billetter refunderes ikke\, medmindre arrangementet aflyses. Vi forbeholder os ret til at aflyse arrangementet ved for få tilmeldte.\nAllergener: Deltagere bedes oplyse om eventuelle allergener senest 2 dage før arrangementet. Send venligt en mail til reception@hojhuset.com
URL:https://hojhuset.com/events/togrejser-for-begyndere-2/
CATEGORIES:events
ATTACH;FMTTYPE=image/jpeg:https://hojhuset.com/wp-content/uploads/2025/11/Togrejser-for-begyndere-med-spisning-scaled.jpg
END:VEVENT
BEGIN:VEVENT
DTSTART;TZID=Europe/Copenhagen:20260128T190000
DTEND;TZID=Europe/Copenhagen:20260128T210000
DTSTAMP:20260423T195511
CREATED:20251119T115516Z
LAST-MODIFIED:20251126T112119Z
UID:7619-1769626800-1769634000@hojhuset.com
SUMMARY:Togrejser for begyndere
DESCRIPTION:KØB BILLET \nTogrejser for begyndere \nSkal din næste ferie foregå på skinner? Så kom og hør forfatter Nanna Hyldgaard Hansen fortælle om bogen “Togrejser for begyndere.” \nI toget bliver selve rejsen en del af oplevelsen\, og foredraget gør det let at komme i gang.\nHvordan bestiller man pladsbilletter i udlandet? Hvordan undgår man stress ved forsinkelser? Og hvor lang tid bør man sætte af til et togskift? \nForedraget er fyldt med praktiske tips\, så du nemt kan planlægge dine egne togferier – uanset om du rejser alene\, med familien eller som par i en moden alder.\nDu får tips til\, hvordan du kan sikre dig en rolig og behagelig rejse – for eksempel ved at købe billetter til 1. klasse\, hvor prisforskellen ofte er lille\, men komforten stor. Her er der god plads til at slappe af og mulighed for servering undervejs. \nDer vil være guides til at: \n• finde de billigste togbilletter\n• hvordan og hvor man kan tilbringe ventetiden rart på store banegårde\n• rejse med interrail og seniorrail\n• gode steder at få hjælp til at planlægge rejsen og bestille billetter\n• få penge tilbage ved forsinkelser\n• selv bestille billetter i forskellige lande\n• køre med nattog\n• spise i restaurantvogne\n• togskift og bagageopbevaring\n• få en billig rejse gennem boligbytte \nTogrejser handler ikke kun om at komme fra A til B. Det er en også ferieform\, hvor man kan nyde tiden sammen\, spise aftensmad i en hyggelig spisevogn eller suse gennem landskabet med 300 kilometer i timen i et fransk TGV-tog. Det er oplevelsen af at falde i søvn til togets vuggen i én by og vågne op i en anden\, mens man får serveret morgenmad i sin sovekupé. \nUnder foredraget får du også idéer til sjove steder at holde ferie og få en masse nye oplevelser både i Danmarks nabolande og lidt længere væk. Der er rejser på alle årstider. Alle steder er valgt ud fra\, at de er nemme at komme til med tog. \nOm forfatteren\nNanna Hyldgaard Hansen er forfatter\, foredragsholder og journalist. Hun har beskæftiget sig med klima og bæredygtighed gennem det meste af sit arbejdsliv og har nu skrevet fire bøger med forskellige tilgange til emnet.\nNannas første bog “Lev for det halve” blev en bestseller\, efterfulgt af de ligeledes populære “Rig på tid” og “Staycation Danmark med børn.” Nanna fortæller ofte om sine bøger i radio\, aviser og tv\, blandt andet i Go’ Morgen Danmark.\nHun formidler helt uden løftede pegefingre. I stedet sætter Nanna fokus på alle de fordele\, som et mere roligt og klimavenligt liv kan give den enkelte.\nBogen “Togrejser for Begyndere” er netop udkommet i år. Læs mere på www.levfordethalve.dk \nProgram\n18.00 Fællesspisning i Spisesalen (mulighed for kombi-billet)\n19.00 Foredrag i Foredragssalen\, incl pause/mulighed for spørgsmål\n21.00 Tak for i aften\n\nDet med småt\nForbehold for aflysning; Billetter refunderes ikke\, medmindre arrangementet aflyses. Vi forbeholder os ret til at aflyse arrangementet ved for få tilmeldte.
URL:https://hojhuset.com/events/togrejser-for-begyndere/
CATEGORIES:events
ATTACH;FMTTYPE=image/jpeg:https://hojhuset.com/wp-content/uploads/2025/11/Togrejser-for-begyndere-scaled.jpg
END:VEVENT
END:VCALENDAR