BEGIN:VCALENDAR
VERSION:2.0
PRODID:-//Højhuset - ECPv6.15.17.1//NONSGML v1.0//EN
CALSCALE:GREGORIAN
METHOD:PUBLISH
X-WR-CALNAME:Højhuset
X-ORIGINAL-URL:https://hojhuset.com
X-WR-CALDESC:Begivenheder for Højhuset
REFRESH-INTERVAL;VALUE=DURATION:PT1H
X-Robots-Tag:noindex
X-PUBLISHED-TTL:PT1H
BEGIN:VTIMEZONE
TZID:Europe/Copenhagen
BEGIN:DAYLIGHT
TZOFFSETFROM:+0100
TZOFFSETTO:+0200
TZNAME:CEST
DTSTART:20240331T010000
END:DAYLIGHT
BEGIN:STANDARD
TZOFFSETFROM:+0200
TZOFFSETTO:+0100
TZNAME:CET
DTSTART:20241027T010000
END:STANDARD
BEGIN:DAYLIGHT
TZOFFSETFROM:+0100
TZOFFSETTO:+0200
TZNAME:CEST
DTSTART:20250330T010000
END:DAYLIGHT
BEGIN:STANDARD
TZOFFSETFROM:+0200
TZOFFSETTO:+0100
TZNAME:CET
DTSTART:20251026T010000
END:STANDARD
BEGIN:DAYLIGHT
TZOFFSETFROM:+0100
TZOFFSETTO:+0200
TZNAME:CEST
DTSTART:20260329T010000
END:DAYLIGHT
BEGIN:STANDARD
TZOFFSETFROM:+0200
TZOFFSETTO:+0100
TZNAME:CET
DTSTART:20261025T010000
END:STANDARD
END:VTIMEZONE
BEGIN:VEVENT
DTSTART;TZID=Europe/Copenhagen:20251201T180000
DTEND;TZID=Europe/Copenhagen:20251201T200000
DTSTAMP:20260423T213459
CREATED:20250828T124319Z
LAST-MODIFIED:20250828T124319Z
UID:7411-1764612000-1764619200@hojhuset.com
SUMMARY:Fællesspisning hver mandag og onsdag
DESCRIPTION:Vil du være med til fællesspisning? \nMiddagen starter kl. 18.00. Vi sidder sammen ved langborde\, og dagens lækre økologiske måltid deles fra store fade ved hvert bord. \nDu skal måske bede din nabo om at give dig brødet og til gengæld række salaten. Som var du derhjemme. \nBEMÆRK: Vi anbefaler\, at du ankommer lidt tidligere\, så du kan nå at købe drikkevarer i baren\, inden middagen starter. \nDørene åbner allerede kl. 17\, så har man lyst til et glas i Pejsestuen\, et slag bordtennis eller en gåtur i vores spændende hus inden middagen\, er man mere end velkommen. \nDet koster 140 kr. pr. voksen og 70 kr. pr. barn (til og med 10 år). Middagen er gratis for børn under 3 år. \n  \nAllergier skal oplyses til reception@hojhuset.com minimum 2 dage før. \nDer er fællesspisning hver mandag og onsdag i 2025. \nBilletter refunderes ikke\, med mindre arrangementet aflyses.\nVi gennemfører ved min. 15 tilmeldte.
URL:https://hojhuset.com/events/faellesspisning-hver-mandag-og-onsdag-i-hoejhuset-kulturhotel-herning/
CATEGORIES:events
ATTACH;FMTTYPE=image/jpeg:https://hojhuset.com/wp-content/uploads/2025/03/Hojhuset-2078-scaled.jpg
END:VEVENT
BEGIN:VEVENT
DTSTART;TZID=Europe/Copenhagen:20251203T180000
DTEND;TZID=Europe/Copenhagen:20251203T200000
DTSTAMP:20260423T213459
CREATED:20250828T124854Z
LAST-MODIFIED:20250828T124854Z
UID:7412-1764784800-1764792000@hojhuset.com
SUMMARY:Fællesspisning hver mandag og onsdag
DESCRIPTION:Vil du være med til fællesspisning? \nMiddagen starter kl. 18.00. Vi sidder sammen ved langborde\, og dagens lækre økologiske måltid deles fra store fade ved hvert bord. \nDu skal måske bede din nabo om at give dig brødet og til gengæld række salaten. Som var du derhjemme. \nBEMÆRK: Vi anbefaler\, at du ankommer lidt tidligere\, så du kan nå at købe drikkevarer i baren\, inden middagen starter. \nDørene åbner allerede kl. 17\, så har man lyst til et glas i Pejsestuen\, et slag bordtennis eller en gåtur i vores spændende hus inden middagen\, er man mere end velkommen. \nDet koster 140 kr. pr. voksen og 70 kr. pr. barn (til og med 10 år). Middagen er gratis for børn under 3 år. \n  \nAllergier skal oplyses til reception@hojhuset.com minimum 2 dage før. \nDer er fællesspisning hver mandag og onsdag i 2025. \nBilletter refunderes ikke\, med mindre arrangementet aflyses.\nVi gennemfører ved min. 15 tilmeldte.
URL:https://hojhuset.com/events/faellesspisning-hver-mandag-og-onsdag-hoejhuset-kulturhotel-herning/
CATEGORIES:events
ATTACH;FMTTYPE=image/jpeg:https://hojhuset.com/wp-content/uploads/2025/03/Hojhuset-2078-scaled.jpg
END:VEVENT
BEGIN:VEVENT
DTSTART;TZID=Europe/Copenhagen:20251208T180000
DTEND;TZID=Europe/Copenhagen:20251208T200000
DTSTAMP:20260423T213459
CREATED:20250828T125447Z
LAST-MODIFIED:20250828T125447Z
UID:7413-1765216800-1765224000@hojhuset.com
SUMMARY:Fællesspisning hver mandag og onsdag
DESCRIPTION:Vil du være med til fællesspisning? \nMiddagen starter kl. 18.00. Vi sidder sammen ved langborde\, og dagens lækre økologiske måltid deles fra store fade ved hvert bord. \nDu skal måske bede din nabo om at give dig brødet og til gengæld række salaten. Som var du derhjemme. \nBEMÆRK: Vi anbefaler\, at du ankommer lidt tidligere\, så du kan nå at købe drikkevarer i baren\, inden middagen starter. \nDørene åbner allerede kl. 17\, så har man lyst til et glas i Pejsestuen\, et slag bordtennis eller en gåtur i vores spændende hus inden middagen\, er man mere end velkommen. \nDet koster 140 kr. pr. voksen og 70 kr. pr. barn (til og med 10 år). Middagen er gratis for børn under 3 år. \n  \nAllergier skal oplyses til reception@hojhuset.com minimum 2 dage før. \nDer er fællesspisning hver mandag og onsdag i 2025. \nBilletter refunderes ikke\, med mindre arrangementet aflyses.\nVi gennemfører ved min. 15 tilmeldte.
URL:https://hojhuset.com/events/faellesspisning-hver-mandag-og-onsdag-hoejhuset-kulturhotel-herning-2/
CATEGORIES:events
ATTACH;FMTTYPE=image/jpeg:https://hojhuset.com/wp-content/uploads/2025/03/Hojhuset-2078-scaled.jpg
END:VEVENT
BEGIN:VEVENT
DTSTART;TZID=Europe/Copenhagen:20251209T180000
DTEND;TZID=Europe/Copenhagen:20251209T203000
DTSTAMP:20260423T213459
CREATED:20250903T110213Z
LAST-MODIFIED:20251208T103136Z
UID:7435-1765303200-1765312200@hojhuset.com
SUMMARY:Hvad skal vi efterhånden tro på? Samtale med Rane Willerslev
DESCRIPTION:Samtale med Rane Willerslev\, direktør for Nationalmuseet \nSensommeren og efteråret byder på en række samtaler i Højhuset med nogle af landets stærkeste stemmer inden for kunst og kultur. Her møder kultur- og kommunikationsekspert\, tv-vært og forfatter Christian Have markante kunstnere og kulturpersonligheder til en åben snak om\, hvilken rolle kunsten og kulturen har i en tid\, hvor den geopolitiske situation er dramatisk forandret. \nFørst på scenen var skuespiller og instruktør Thure Lindhardt. Næste gæst er Rane Willerslev – direktør for Nationalmuseet\, kendt fra talrige tv- og medieoptrædener\, og berømt for sin evne til at rive historien ned fra støvede piedestaler og gøre den nærværende\, skarp og relevant. \nBillettyper \nSamtale: 125 kr (book her) \nFællesspisning og samtale: 235 kr (book her) \nDet med småt \nBilletter refunderes ikke\, medmindre arrangementet aflyses grundet for få tilmeldte. \nAllergier skal oplyses til reception@hojhuset.com minimum 2 dage før.
URL:https://hojhuset.com/events/hvad-skal-vi-efterhaanden-tro-paa/
CATEGORIES:events
END:VEVENT
BEGIN:VEVENT
DTSTART;TZID=Europe/Copenhagen:20251209T193000
DTEND;TZID=Europe/Copenhagen:20251209T203000
DTSTAMP:20260423T213459
CREATED:20250903T105658Z
LAST-MODIFIED:20251125T072820Z
UID:7433-1765308600-1765312200@hojhuset.com
SUMMARY:Hvad skal vi efterhånden tro på? Samtale med Rane Willerslev
DESCRIPTION:Samtale med Rane Willerslev\, direktør for Nationalmuseet \nSensommeren og efteråret byder på en række samtaler i Højhuset med nogle af landets stærkeste stemmer inden for kunst og kultur. Her møder kultur- og kommunikationsekspert\, tv-vært og forfatter Christian Have markante kunstnere og kulturpersonligheder til en åben snak om\, hvilken rolle kunsten og kulturen har i en tid\, hvor den geopolitiske situation er dramatisk forandret. \nFørst på scenen var skuespiller og instruktør Thure Lindhardt. Næste gæst er Rane Willerslev – direktør for Nationalmuseet\, kendt fra talrige tv- og medieoptrædener\, og berømt for sin evne til at rive historien ned fra støvede piedestaler og gøre den nærværende\, skarp og relevant. \nBillettyper \nSamtale: 125 kr (book her) \nFællesspisning og samtale: 235 kr (book her) \nDet med småt \nBilletter refunderes ikke\, medmindre arrangementet aflyses grundet for få tilmeldte. \nAllergier skal oplyses til reception@hojhuset.com minimum 2 dage før.
URL:https://hojhuset.com/events/samtale-med-rane-willerslev-direktoer-for-nationalmuseet/
CATEGORIES:events
END:VEVENT
BEGIN:VEVENT
DTSTART;TZID=Europe/Copenhagen:20251210T180000
DTEND;TZID=Europe/Copenhagen:20251210T200000
DTSTAMP:20260423T213459
CREATED:20250828T125703Z
LAST-MODIFIED:20250828T125703Z
UID:7414-1765389600-1765396800@hojhuset.com
SUMMARY:Fællesspisning hver mandag og onsdag
DESCRIPTION:Vil du være med til fællesspisning? \nMiddagen starter kl. 18.00. Vi sidder sammen ved langborde\, og dagens lækre økologiske måltid deles fra store fade ved hvert bord. \nDu skal måske bede din nabo om at give dig brødet og til gengæld række salaten. Som var du derhjemme. \nBEMÆRK: Vi anbefaler\, at du ankommer lidt tidligere\, så du kan nå at købe drikkevarer i baren\, inden middagen starter. \nDørene åbner allerede kl. 17\, så har man lyst til et glas i Pejsestuen\, et slag bordtennis eller en gåtur i vores spændende hus inden middagen\, er man mere end velkommen. \nDet koster 140 kr. pr. voksen og 70 kr. pr. barn (til og med 10 år). Middagen er gratis for børn under 3 år. \n  \nAllergier skal oplyses til reception@hojhuset.com minimum 2 dage før. \nDer er fællesspisning hver mandag og onsdag i 2025. \nBilletter refunderes ikke\, med mindre arrangementet aflyses.\nVi gennemfører ved min. 15 tilmeldte.
URL:https://hojhuset.com/events/faellesspisning-hver-mandag-og-onsdag-hoejhuset-kulturhotel-herning-3/
CATEGORIES:events
ATTACH;FMTTYPE=image/jpeg:https://hojhuset.com/wp-content/uploads/2025/03/Hojhuset-2078-scaled.jpg
END:VEVENT
BEGIN:VEVENT
DTSTART;TZID=Europe/Copenhagen:20251215T180000
DTEND;TZID=Europe/Copenhagen:20251215T200000
DTSTAMP:20260423T213459
CREATED:20250828T130022Z
LAST-MODIFIED:20250828T130022Z
UID:7415-1765821600-1765828800@hojhuset.com
SUMMARY:Fællesspisning hver mandag og onsdag
DESCRIPTION:Vil du være med til fællesspisning? \nMiddagen starter kl. 18.00. Vi sidder sammen ved langborde\, og dagens lækre økologiske måltid deles fra store fade ved hvert bord. \nDu skal måske bede din nabo om at give dig brødet og til gengæld række salaten. Som var du derhjemme. \nBEMÆRK: Vi anbefaler\, at du ankommer lidt tidligere\, så du kan nå at købe drikkevarer i baren\, inden middagen starter. \nDørene åbner allerede kl. 17\, så har man lyst til et glas i Pejsestuen\, et slag bordtennis eller en gåtur i vores spændende hus inden middagen\, er man mere end velkommen. \nDet koster 140 kr. pr. voksen og 70 kr. pr. barn (til og med 10 år). Middagen er gratis for børn under 3 år. \n  \nAllergier skal oplyses til reception@hojhuset.com minimum 2 dage før. \nDer er fællesspisning hver mandag og onsdag i 2025. \nBilletter refunderes ikke\, med mindre arrangementet aflyses.\nVi gennemfører ved min. 15 tilmeldte.
URL:https://hojhuset.com/events/faellesspisning-hver-mandag-og-onsdag-hoejhuset-kulturhotel-herning-4/
CATEGORIES:events
ATTACH;FMTTYPE=image/jpeg:https://hojhuset.com/wp-content/uploads/2025/03/Hojhuset-2078-scaled.jpg
END:VEVENT
BEGIN:VEVENT
DTSTART;TZID=Europe/Copenhagen:20251217T180000
DTEND;TZID=Europe/Copenhagen:20251217T200000
DTSTAMP:20260423T213459
CREATED:20250828T130341Z
LAST-MODIFIED:20250925T095914Z
UID:7416-1765994400-1766001600@hojhuset.com
SUMMARY:Fællesspisning hver mandag og onsdag
DESCRIPTION:Vil du være med til fællesspisning? \nMiddagen starter kl. 18.00. Vi sidder sammen ved langborde\, og dagens lækre økologiske måltid deles fra store fade ved hvert bord. \nDu skal måske bede din nabo om at give dig brødet og til gengæld række salaten. Som var du derhjemme. \nBEMÆRK: Vi anbefaler\, at du ankommer lidt tidligere\, så du kan nå at købe drikkevarer i baren\, inden middagen starter. \nDørene åbner allerede kl. 17\, så har man lyst til et glas i Pejsestuen\, et slag bordtennis eller en gåtur i vores spændende hus inden middagen\, er man mere end velkommen. \nDet koster 140 kr. pr. voksen og 70 kr. pr. barn (til og med 10 år). Middagen er gratis for børn under 3 år. \n  \nAllergier skal oplyses til reception@hojhuset.com minimum 2 dage før. \nDer er fællesspisning hver mandag og onsdag i 2025. \nBilletter refunderes ikke\, med mindre arrangementet aflyses.\nVi gennemfører ved min. 15 tilmeldte.
URL:https://hojhuset.com/events/faellesspisning-hver-mandag-og-onsdag-hoejhuset-kulturhotel-herning-5/
CATEGORIES:events
ATTACH;FMTTYPE=image/jpeg:https://hojhuset.com/wp-content/uploads/2025/03/Hojhuset-2078-scaled.jpg
END:VEVENT
END:VCALENDAR