BEGIN:VCALENDAR
VERSION:2.0
PRODID:-//Højhuset - ECPv6.15.17.1//NONSGML v1.0//EN
CALSCALE:GREGORIAN
METHOD:PUBLISH
X-WR-CALNAME:Højhuset
X-ORIGINAL-URL:https://hojhuset.com
X-WR-CALDESC:Begivenheder for Højhuset
REFRESH-INTERVAL;VALUE=DURATION:PT1H
X-Robots-Tag:noindex
X-PUBLISHED-TTL:PT1H
BEGIN:VTIMEZONE
TZID:Europe/Copenhagen
BEGIN:DAYLIGHT
TZOFFSETFROM:+0100
TZOFFSETTO:+0200
TZNAME:CEST
DTSTART:20240331T010000
END:DAYLIGHT
BEGIN:STANDARD
TZOFFSETFROM:+0200
TZOFFSETTO:+0100
TZNAME:CET
DTSTART:20241027T010000
END:STANDARD
BEGIN:DAYLIGHT
TZOFFSETFROM:+0100
TZOFFSETTO:+0200
TZNAME:CEST
DTSTART:20250330T010000
END:DAYLIGHT
BEGIN:STANDARD
TZOFFSETFROM:+0200
TZOFFSETTO:+0100
TZNAME:CET
DTSTART:20251026T010000
END:STANDARD
BEGIN:DAYLIGHT
TZOFFSETFROM:+0100
TZOFFSETTO:+0200
TZNAME:CEST
DTSTART:20260329T010000
END:DAYLIGHT
BEGIN:STANDARD
TZOFFSETFROM:+0200
TZOFFSETTO:+0100
TZNAME:CET
DTSTART:20261025T010000
END:STANDARD
END:VTIMEZONE
BEGIN:VEVENT
DTSTART;TZID=Europe/Copenhagen:20251101T100000
DTEND;TZID=Europe/Copenhagen:20251101T130000
DTSTAMP:20260423T233348
CREATED:20250224T144642Z
LAST-MODIFIED:20251020T105047Z
UID:6862-1761991200-1762002000@hojhuset.com
SUMMARY:Collage-workshop med Sergei Sviatchenko
DESCRIPTION:Collage-workshop med Sergei Sviatchenko \nMåske kender du allerede Sergeis abstrakte og tankevækkende collager? Måske har du læst om ham i diverse magasiner eller tidligere set ham kåret af Euroman som Danmarks bedst klædte mand. Den alsidige og altid über-cool kunstner og verdensborger er svær at overse\, og nu har du muligheden for at komme på en eksklusiv workshop\, hvor du lærer at lave collager efter Sergeis kunstneriske LESS-principper. \nLæs mere om prof. Sergei Sviatchenko her; \nSergei Sviatchenko \nLess Education \nProgram \n10.00-10.15 Introduktion v. Sergei. Her serveres kaffe og the. \n10.15-13.00 Workshop. \nDu får \nUndervisning incl materialer – og en fed collage med hjem til væggen. \nFormiddagskaffe/the. \nPraktisk info \nHUSK at medbringe en saks og evt et personligt print\, hvis du allerede nu har en idé om\, hvad det bærende motiv i collagen skal være. \nDer vil være mulighed for at købe forskellige drikkevarer og snacks i baren i Spisesalen i løbet af workshoppen. \nDeltager-antal; max. 25 \nBilletter refunderes ikke\, medmindre arrangementet aflyses grundet for få tilmeldte.
URL:https://hojhuset.com/events/collage-workshop-med-sergei-sviatchenko/
CATEGORIES:events
END:VEVENT
BEGIN:VEVENT
DTSTART;TZID=Europe/Copenhagen:20251102T090000
DTEND;TZID=Europe/Copenhagen:20251102T120000
DTSTAMP:20260423T233348
CREATED:20250226T083848Z
LAST-MODIFIED:20250317T100551Z
UID:6915-1762074000-1762084800@hojhuset.com
SUMMARY:Yoga og brunch – med Annemette Linneberg
DESCRIPTION:En formiddag i zen – med yoga og surdejsboller \nTag dig selv og din yogamåtte under armen – og måske også en veninde\, en søster eller en stivbenet onkel\, der har godt af lidt udstræk og en god brunch. \nAnnemette Linneberg fra Linneberg yoga vil guide dig gennem 1\,5 times Iyengar yoga med fokus på styrke og kropsbevidsthed. Timen tilrettelægges\, så alle kan være med uanset alder og fysisk form. \nEfter yoga (kl. 9.00-10.30) er der brunch ved de røde borde i Spisesalen. Her kan du nyde en brunch-tallerken med; \nSurdejsgræskarbolle med pisket smør \nVesterhavsost og sylt \nÆgge muffin med grønt og rugbrødsknas \nYoghurt med hjemmelavet granola \nKanelsnurre og frugtsalat \nHertil kaffe\, the og saft ad lib. \nHUSK \nMedbring egen yoga-måtte\, tæppe\, og hvis du har – yogablokke \nBilletter refunderes ikke\, medmindre arrangementet aflyses grundet for få tilmeldte. \nAllergier skal oplyses til reception@hojhuset.com minimum 2 dage før.
URL:https://hojhuset.com/events/yoga-og-brunch-med-annemette-linneberg-2/
CATEGORIES:events
ATTACH;FMTTYPE=image/png:https://hojhuset.com/wp-content/uploads/2024/11/Yoga-Brunch-1.png
END:VEVENT
BEGIN:VEVENT
DTSTART;TZID=Europe/Copenhagen:20251103T180000
DTEND;TZID=Europe/Copenhagen:20251103T200000
DTSTAMP:20260423T233348
CREATED:20250403T125801Z
LAST-MODIFIED:20250806T134741Z
UID:7102-1762192800-1762200000@hojhuset.com
SUMMARY:Fællesspisning hver mandag og onsdag
DESCRIPTION:Vil du være med til fællesspisning? \nMiddagen starter kl. 18.00. Vi sidder sammen ved langborde\, og dagens lækre økologiske måltid deles fra store fade ved hvert bord. \nDu skal måske bede din nabo om at give dig brødet og til gengæld række salaten. Som var du derhjemme. \nBEMÆRK: Vi anbefaler\, at du ankommer lidt tidligere\, så du kan nå at købe drikkevarer i baren\, inden middagen starter. \nDørene åbner allerede kl. 17\, så har man lyst til et glas i Pejsestuen\, et slag bordtennis eller en gåtur i vores spændende hus inden middagen\, er man mere end velkommen. \nDet koster 140 kr. pr. voksen og 70 kr. pr. barn (til og med 10 år). Middagen er gratis for børn under 3 år. \n  \nAllergier skal oplyses til reception@hojhuset.com minimum 2 dage før. \nDer er fællesspisning hver mandag og onsdag i 2025. \nBilletter refunderes ikke\, med mindre arrangementet aflyses.\nVi gennemfører ved min. 15 tilmeldte.
URL:https://hojhuset.com/events/faellesspisning-hver-mandag-og-onsdag-117/
CATEGORIES:events
ATTACH;FMTTYPE=image/jpeg:https://hojhuset.com/wp-content/uploads/2025/03/Hojhuset-2078-scaled.jpg
END:VEVENT
BEGIN:VEVENT
DTSTART;TZID=Europe/Copenhagen:20251105T180000
DTEND;TZID=Europe/Copenhagen:20251105T200000
DTSTAMP:20260423T233348
CREATED:20250403T125928Z
LAST-MODIFIED:20250806T134757Z
UID:7103-1762365600-1762372800@hojhuset.com
SUMMARY:Fællesspisning hver mandag og onsdag
DESCRIPTION:Vil du være med til fællesspisning? \nMiddagen starter kl. 18.00. Vi sidder sammen ved langborde\, og dagens lækre økologiske måltid deles fra store fade ved hvert bord. \nDu skal måske bede din nabo om at give dig brødet og til gengæld række salaten. Som var du derhjemme. \nBEMÆRK: Vi anbefaler\, at du ankommer lidt tidligere\, så du kan nå at købe drikkevarer i baren\, inden middagen starter. \nDørene åbner allerede kl. 17\, så har man lyst til et glas i Pejsestuen\, et slag bordtennis eller en gåtur i vores spændende hus inden middagen\, er man mere end velkommen. \nDet koster 140 kr. pr. voksen og 70 kr. pr. barn (til og med 10 år). Middagen er gratis for børn under 3 år. \n  \nAllergier skal oplyses til reception@hojhuset.com minimum 2 dage før. \nDer er fællesspisning hver mandag og onsdag i 2025. \nBilletter refunderes ikke\, med mindre arrangementet aflyses.\nVi gennemfører ved min. 15 tilmeldte.
URL:https://hojhuset.com/events/faellesspisning-hver-mandag-og-onsdag-118/
CATEGORIES:events
ATTACH;FMTTYPE=image/jpeg:https://hojhuset.com/wp-content/uploads/2025/03/Hojhuset-2078-scaled.jpg
END:VEVENT
BEGIN:VEVENT
DTSTART;TZID=Europe/Copenhagen:20251112T170000
DTEND;TZID=Europe/Copenhagen:20251112T180000
DTSTAMP:20260423T233348
CREATED:20241122T075750Z
LAST-MODIFIED:20250130T115435Z
UID:6677-1762966800-1762970400@hojhuset.com
SUMMARY:Rundvisning for alle
DESCRIPTION:Skal du til fællesspisning onsdag d. 12 november? Vil du så ikke med til en rundvisning inden middagen? \nVi vil så gerne vise vores hus frem. \nGratis\, men tilmelding er nødvendig
URL:https://hojhuset.com/events/rundvisning-for-alle-4/
CATEGORIES:events
ATTACH;FMTTYPE=image/png:https://hojhuset.com/wp-content/uploads/2024/11/DKBS-3_1.png
END:VEVENT
BEGIN:VEVENT
DTSTART;TZID=Europe/Copenhagen:20251112T180000
DTEND;TZID=Europe/Copenhagen:20251112T200000
DTSTAMP:20260423T233348
CREATED:20250403T130137Z
LAST-MODIFIED:20251110T123221Z
UID:7104-1762970400-1762977600@hojhuset.com
SUMMARY:Fællesspisning hver mandag og onsdag
DESCRIPTION:Vil du være med til fællesspisning? \nMiddagen starter kl. 18.00. Vi sidder sammen ved langborde\, og dagens lækre økologiske måltid deles fra store fade ved hvert bord. \nDu skal måske bede din nabo om at give dig brødet og til gengæld række salaten. Som var du derhjemme. \nBEMÆRK: Vi anbefaler\, at du ankommer lidt tidligere\, så du kan nå at købe drikkevarer i baren\, inden middagen starter. \nDørene åbner allerede kl. 17\, så har man lyst til et glas i Pejsestuen\, et slag bordtennis eller en gåtur i vores spændende hus inden middagen\, er man mere end velkommen. \nDet koster 140 kr. pr. voksen og 70 kr. pr. barn (til og med 10 år). Middagen er gratis for børn under 3 år. \nMenu \nCremet orzo med gedeost og spinat \nFyldt kyllingebryst \nDet med småt \nAllergier skal oplyses til reception@hojhuset.com minimum 2 dage før. \nDer er fællesspisning hver mandag og onsdag i 2025. \nBilletter refunderes ikke\, med mindre arrangementet aflyses.\nVi gennemfører ved min. 15 tilmeldte.
URL:https://hojhuset.com/events/faellesspisning-hver-mandag-og-onsdag-119/
CATEGORIES:events
ATTACH;FMTTYPE=image/jpeg:https://hojhuset.com/wp-content/uploads/2025/03/Hojhuset-2078-scaled.jpg
END:VEVENT
BEGIN:VEVENT
DTSTART;TZID=Europe/Copenhagen:20251117T180000
DTEND;TZID=Europe/Copenhagen:20251117T200000
DTSTAMP:20260423T233348
CREATED:20250403T130415Z
LAST-MODIFIED:20251110T123306Z
UID:7105-1763402400-1763409600@hojhuset.com
SUMMARY:Fællesspisning hver mandag og onsdag
DESCRIPTION:Vil du være med til fællesspisning? \nMiddagen starter kl. 18.00. Vi sidder sammen ved langborde\, og dagens lækre økologiske måltid deles fra store fade ved hvert bord. \nDu skal måske bede din nabo om at give dig brødet og til gengæld række salaten. Som var du derhjemme. \nBEMÆRK: Vi anbefaler\, at du ankommer lidt tidligere\, så du kan nå at købe drikkevarer i baren\, inden middagen starter. \nDørene åbner allerede kl. 17\, så har man lyst til et glas i Pejsestuen\, et slag bordtennis eller en gåtur i vores spændende hus inden middagen\, er man mere end velkommen. \nDet koster 140 kr. pr. voksen og 70 kr. pr. barn (til og med 10 år). Middagen er gratis for børn under 3 år. \nMenu \nGræskar – linsegryde med bulgur og græskarkerner \nSalat med grønkål\, æble\, hasselnødder og sennepsdressing \nDet med småt \nAllergier skal oplyses til reception@hojhuset.com minimum 2 dage før. \nDer er fællesspisning hver mandag og onsdag i 2025. \nBilletter refunderes ikke\, med mindre arrangementet aflyses.\nVi gennemfører ved min. 15 tilmeldte.
URL:https://hojhuset.com/events/faellesspisning-hver-mandag-og-onsdag-120/
CATEGORIES:events
ATTACH;FMTTYPE=image/jpeg:https://hojhuset.com/wp-content/uploads/2025/03/Hojhuset-2078-scaled.jpg
END:VEVENT
BEGIN:VEVENT
DTSTART;TZID=Europe/Copenhagen:20251117T190000
DTEND;TZID=Europe/Copenhagen:20251117T210000
DTSTAMP:20260423T233348
CREATED:20250728T075518Z
LAST-MODIFIED:20250728T075652Z
UID:7274-1763406000-1763413200@hojhuset.com
SUMMARY:Klarsynsaften med Berit Højgaard
DESCRIPTION:På en klarsynsaften videreformidler Berit beskeder\, tegn\, hilsner\, råd og vejledning til publikum fra skytsengle\, guider og de der er gået i forvejen som f.eks. familiemedlemmer\, venner og bekendte. Berit videreformidler også kroppens visdom. Kroppen husker alt fra livets start til nuet og favner alle følelser samt tanker. Udover formidlinger og kanaliseringen vil der også blive formidlet clairvoyante beskeder og spirituel healing til deltagerne. Universet kommer med så meget visdom\, kærlighed og healing til den der søger\, lytter og ønsker at modtage. Den er blot en tanke væk.  \nPå en klarsynsaften med fysisk fremmøde er der plads til ca. 60 deltagere\, hvor Berit som udgangspunkt kan nå at kanalisere mellem 15 – 20 budskaber til publikum. Alle deltagere har mulighed for at trække et kort med et budskab til sidst. \nDøren åbner kl. 18:30 og kom gerne senest kl. 18:50\, så alle kan nå at lande inden vi starter kl. 19:00 \n  \nProgram for en klarsynsaften \nVelkommen og kort præsentation af Berit Højgaard\nDemonstration\nPause\nDemonstration\nMulighed for at stille spørgsmål sidst på aftenen\nTak for i aften\n  \nLæs mere: hjemmesiden \nKøb billet: Klarsynsaften
URL:https://hojhuset.com/events/klarsynsaften-med-berit-hoejgaard/
CATEGORIES:events
END:VEVENT
BEGIN:VEVENT
DTSTART;TZID=Europe/Copenhagen:20251119T180000
DTEND;TZID=Europe/Copenhagen:20251119T200000
DTSTAMP:20260423T233348
CREATED:20250403T130709Z
LAST-MODIFIED:20251110T123352Z
UID:7106-1763575200-1763582400@hojhuset.com
SUMMARY:Fællesspisning hver mandag og onsdag
DESCRIPTION:Vil du være med til fællesspisning? \nMiddagen starter kl. 18.00. Vi sidder sammen ved langborde\, og dagens lækre økologiske måltid deles fra store fade ved hvert bord. \nDu skal måske bede din nabo om at give dig brødet og til gengæld række salaten. Som var du derhjemme. \nBEMÆRK: Vi anbefaler\, at du ankommer lidt tidligere\, så du kan nå at købe drikkevarer i baren\, inden middagen starter. \nDørene åbner allerede kl. 17\, så har man lyst til et glas i Pejsestuen\, et slag bordtennis eller en gåtur i vores spændende hus inden middagen\, er man mere end velkommen. \nDet koster 140 kr. pr. voksen og 70 kr. pr. barn (til og med 10 år). Middagen er gratis for børn under 3 år. \nMenu \nLangtidsstegt nakkefilet med æble/sennepssauce \nStegte kartofler og rødløgsrelish \nDet med småt \nAllergier skal oplyses til reception@hojhuset.com minimum 2 dage før. \nDer er fællesspisning hver mandag og onsdag i 2025. \nBilletter refunderes ikke\, med mindre arrangementet aflyses.\nVi gennemfører ved min. 15 tilmeldte.
URL:https://hojhuset.com/events/faellesspisning-hver-mandag-og-onsdag-121/
CATEGORIES:events
ATTACH;FMTTYPE=image/jpeg:https://hojhuset.com/wp-content/uploads/2025/03/Hojhuset-2078-scaled.jpg
END:VEVENT
BEGIN:VEVENT
DTSTART;TZID=Europe/Copenhagen:20251122T100000
DTEND;TZID=Europe/Copenhagen:20251122T140000
DTSTAMP:20260423T233348
CREATED:20250822T100300Z
LAST-MODIFIED:20251120T130313Z
UID:7394-1763805600-1763820000@hojhuset.com
SUMMARY:Jul i Birk
DESCRIPTION:Jul i Birk\nDer er noget helt særligt ved den første duft af jul – en blanding af frisk gran\, kringle fra ovnen og et strejf af gløgg\, der prikker næsen. Og netop dén stemning kan du finde\, når vi tænder julelysene i Birk og inviterer til en dag fyldt med nærvær\, oplevelser og god gammeldags decemberhygge (ja\, selvom det “kun” er november). \nSæt kurs mod Højhuset og vores naboer i CHPEA Museum\, HEART Museum\, VIA og Innovatorium – og lad dig føre rundt mellem pejsehygge\, kreative juleværksteder\, pop-up-koncerter og juleshopping. Her er ingen stress\, kun varme smil\, klingende kaffekopper og ro til at finde årets bedste julegave (måske endda til dig selv?). \nDet kan du glæde dig til i Højhuset: \n\nPop-up koncert med Ensemble MidtVest kl. 11.00 – levende musik midt i julemagien\nJulecafé i Pejsestuen med nybagt kringle og kaffe\nGløgg-smagning for både den klassiske og den nysgerrige gane\nTag årets julefoto på altanen – i julens rammer med udsigt over Birk\nKom og se juleborde fra bl.a Maileg og Moderne Retro\nKøb dine julegaver – bl.a bøger og muleposer fra Thiemers og lækre tasker fra Muud samt Højhusets eget udvalg af diverse\n\nVi glæder os til at ønske dig glædelig (for)jul i Birk!
URL:https://hojhuset.com/events/jul-i-birk/
CATEGORIES:events
END:VEVENT
BEGIN:VEVENT
DTSTART;TZID=Europe/Copenhagen:20251123T090000
DTEND;TZID=Europe/Copenhagen:20251123T120000
DTSTAMP:20260423T233348
CREATED:20250205T121515Z
LAST-MODIFIED:20251111T112655Z
UID:6805-1763888400-1763899200@hojhuset.com
SUMMARY:Brunch med strik i Højhuset
DESCRIPTION:Strik\, brunch og mere strik\nHvis du kan lide brunch og strik – og gerne på samme tid\, så læs endelig videre. \nMette Kokholm er endnu engang vært for et aldeles hyggeligt event\, hvor vi hygger\, strikker og spiser. \nProgrammet er meget enkelt. Det handler mest om brunch\, masser af kaffe og social knitting. Ingen workshop\, ingen tvangsstrik\, bare en hyggelig formiddag med ligesindede. \nProgram\n09.00-10.00 Dørene åbnes til Pejsestuen. Der vil være fuld smæk på hyggen med ild i pejsen\, og kaffen er allerede klar. \n10.00-12.00 Brunch i Spisesalen. Velkomst og intro ved Mette Kokholm. Med fællessang og en frisk konkurrence med gode præmier. \nMan er velkommen til at trække ud i Pejsestuen undervejs til mere snak og mere strik. \nI prisen er inkluderet\nMorgen-pejse-kaffe ved ankomst \nEn julet brunchtallerken; \nFriskbagt bolle med pisket smør\, hård ost og sylt\, ægge-muffin med grønt og knas\, yoghurt med hjemmelavet granola\, kanelsnurre og en julefrugtsalat. Hertil kaffe\, the og saft ad lib \nJulekonkurrence med gode gevinster \nFuld smæk på julehyggen \nDer vil være mulighed for at se de nyeste produkter fra Muud og for at få en rabatkode. \n  \nMedbring selv dit eget strikketøj! \n  \nBilletter bliver ikke refunderet\, med mindre arrangementet aflyses.\nArrangementet gennemføres ved min. 25 deltagere. \nAllergier skal oplyses til reception@hojhuset.com minimum 2 dage før.
URL:https://hojhuset.com/events/strik-og-gloegg-i-hoejhuset-2/
CATEGORIES:events
END:VEVENT
BEGIN:VEVENT
DTSTART;TZID=Europe/Copenhagen:20251124T172000
DTEND;TZID=Europe/Copenhagen:20251124T175000
DTSTAMP:20260423T233348
CREATED:20250515T091630Z
LAST-MODIFIED:20251014T083010Z
UID:7136-1764004800-1764006600@hojhuset.com
SUMMARY:Cool og klassisk. Fyraftenskoncert
DESCRIPTION:Musikalsk forret på en mandag \nKom og lyt\, når en lille celeber gruppe af musikere fra Ensemble MidtVest slår tonen an i Pejsestuen til en lille intimkoncert. \nBrug det som en fyraftenskoncert på vej hjem fra arbejde\, eller som en musikalsk forret inden mandagens fællespisning. \nDet er uhørt meget kvalitet til en uhørt lav pris. \nBook din gratisbillet her
URL:https://hojhuset.com/events/cool-og-klassisk-fyraftenskoncert/
CATEGORIES:events
ATTACH;FMTTYPE=image/jpeg:https://hojhuset.com/wp-content/uploads/2025/05/Ensemble-midtvest-fyraftenskoncert-scaled.jpg
END:VEVENT
BEGIN:VEVENT
DTSTART;TZID=Europe/Copenhagen:20251124T172000
DTEND;TZID=Europe/Copenhagen:20251124T200000
DTSTAMP:20260423T233348
CREATED:20251010T100823Z
LAST-MODIFIED:20251010T100823Z
UID:7513-1764004800-1764014400@hojhuset.com
SUMMARY:Cool og klassisk. Fyraftenskoncert
DESCRIPTION:Musikalsk forret på en mandag \nKom og lyt\, når en lille celeber gruppe af musikere fra Ensemble MidtVest slår tonen an i Pejsestuen til en lille intimkoncert. \nBrug det som en fyraftenskoncert på vej hjem fra arbejde\, eller som en musikalsk forret inden mandagens fællespisning. \nDet er uhørt meget kvalitet til en uhørt lav pris.
URL:https://hojhuset.com/events/cool-og-klassisk-fyraftenskoncert-5/
CATEGORIES:events
ATTACH;FMTTYPE=image/jpeg:https://hojhuset.com/wp-content/uploads/2025/10/fyraftenskoncert-spisning-scaled.jpg
END:VEVENT
BEGIN:VEVENT
DTSTART;TZID=Europe/Copenhagen:20251124T180000
DTEND;TZID=Europe/Copenhagen:20251124T200000
DTSTAMP:20260423T233348
CREATED:20250403T130903Z
LAST-MODIFIED:20251110T123447Z
UID:7107-1764007200-1764014400@hojhuset.com
SUMMARY:Fællesspisning hver mandag og onsdag
DESCRIPTION:Vil du være med til fællesspisning? \nMiddagen starter kl. 18.00. Vi sidder sammen ved langborde\, og dagens lækre økologiske måltid deles fra store fade ved hvert bord. \nDu skal måske bede din nabo om at give dig brødet og til gengæld række salaten. Som var du derhjemme. \nBEMÆRK: Vi anbefaler\, at du ankommer lidt tidligere\, så du kan nå at købe drikkevarer i baren\, inden middagen starter. \nDørene åbner allerede kl. 17\, så har man lyst til et glas i Pejsestuen\, et slag bordtennis eller en gåtur i vores spændende hus inden middagen\, er man mere end velkommen. \nDet koster 140 kr. pr. voksen og 70 kr. pr. barn (til og med 10 år). Middagen er gratis for børn under 3 år. \nMenu \nEnchiladas med chili sin carne og \nøstershatte i tomat-chipotle \nDet med småt \nAllergier skal oplyses til reception@hojhuset.com minimum 2 dage før. \nDer er fællesspisning hver mandag og onsdag i 2025. \nBilletter refunderes ikke\, med mindre arrangementet aflyses.\nVi gennemfører ved min. 15 tilmeldte.
URL:https://hojhuset.com/events/faellesspisning-hver-mandag-og-onsdag-122/
CATEGORIES:events
ATTACH;FMTTYPE=image/jpeg:https://hojhuset.com/wp-content/uploads/2025/03/Hojhuset-2078-scaled.jpg
END:VEVENT
BEGIN:VEVENT
DTSTART;TZID=Europe/Copenhagen:20251126T180000
DTEND;TZID=Europe/Copenhagen:20251126T200000
DTSTAMP:20260423T233348
CREATED:20250403T131343Z
LAST-MODIFIED:20251117T123333Z
UID:7108-1764180000-1764187200@hojhuset.com
SUMMARY:Fællesspisning hver mandag og onsdag
DESCRIPTION:Vil du være med til fællesspisning? \nMiddagen starter kl. 18.00. Vi sidder sammen ved langborde\, og dagens lækre økologiske måltid deles fra store fade ved hvert bord. \nDu skal måske bede din nabo om at give dig brødet og til gengæld række salaten. Som var du derhjemme. \nBEMÆRK: Vi anbefaler\, at du ankommer lidt tidligere\, så du kan nå at købe drikkevarer i baren\, inden middagen starter. \nDørene åbner allerede kl. 17\, så har man lyst til et glas i Pejsestuen\, et slag bordtennis eller en gåtur i vores spændende hus inden middagen\, er man mere end velkommen. \nDet koster 140 kr. pr. voksen og 70 kr. pr. barn (til og med 10 år). Middagen er gratis for børn under 3 år. \nMenu \nSkinkesteg med svær og grillet spidskål \nOvnbagte rodfrugter / kartofler \nKålsalat med æble \nDet med småt \nAllergier skal oplyses til reception@hojhuset.com minimum 2 dage før. \nDer er fællesspisning hver mandag og onsdag i 2025. \nBilletter refunderes ikke\, med mindre arrangementet aflyses.\nVi gennemfører ved min. 15 tilmeldte.
URL:https://hojhuset.com/events/faellesspisning-hver-mandag-og-onsdag-123/
CATEGORIES:events
ATTACH;FMTTYPE=image/jpeg:https://hojhuset.com/wp-content/uploads/2025/03/Hojhuset-2078-scaled.jpg
END:VEVENT
END:VCALENDAR